BEGIN:VCALENDAR
VERSION:2.0
PRODID:-//Luften är Fri - ECPv5.9.0//NONSGML v1.0//EN
CALSCALE:GREGORIAN
METHOD:PUBLISH
X-WR-CALNAME:Luften är Fri
X-ORIGINAL-URL:https://www.luftenarfri.nu
X-WR-CALDESC:Händelser för Luften är Fri
BEGIN:VTIMEZONE
TZID:Europe/Stockholm
BEGIN:DAYLIGHT
TZOFFSETFROM:+0100
TZOFFSETTO:+0200
TZNAME:CEST
DTSTART:20210328T010000
END:DAYLIGHT
BEGIN:STANDARD
TZOFFSETFROM:+0200
TZOFFSETTO:+0100
TZNAME:CET
DTSTART:20211031T010000
END:STANDARD
END:VTIMEZONE
BEGIN:VEVENT
DTSTART;VALUE=DATE:20210301
DTEND;VALUE=DATE:20210302
DTSTAMP:20260422T215302
CREATED:20210301T072852Z
LAST-MODIFIED:20210426T140250Z
UID:8660-1614556800-1614643199@www.luftenarfri.nu
SUMMARY:Vem bor i skogen?
DESCRIPTION:Nyhet för barn! Åtta djur har gömt sig i Mariebergsskogens gammelskog. Leta upp djuren och svara på deras frågor.\n\n\n\n\n\nSurfa till playgpsquiz.com med din smarta telefon när du är utanför Naturum Värmland för att spela en digital GPS-quiz ute i skogen. Det är gratis och du kan spela alla dagar under parkens öppettider. Lycka till!
URL:https://www.luftenarfri.nu/evenemang/vem-bor-i-skogen/2021-03-01/
LOCATION:Naturum Värmland\, Mariebergsskogen AB\, Karlstad\, Värmland\, 65184\, Sverige
CATEGORIES:Skogsnära,Vardagsnära
ATTACH;FMTTYPE=image/jpeg:https://www.luftenarfri.nu/wp-content/uploads/2021/02/squirrel-2827760_1920-1.jpg
ORGANIZER;CN="Naturum%20V%26auml%3Brmland":MAILTO:naturumvarmland@karlstad.se
GEO:59.3699191;13.4870507
X-APPLE-STRUCTURED-LOCATION;VALUE=URI;X-ADDRESS=Naturum Värmland Mariebergsskogen AB Karlstad Värmland 65184 Sverige;X-APPLE-RADIUS=500;X-TITLE=Mariebergsskogen AB:geo:13.4870507,59.3699191
END:VEVENT
END:VCALENDAR