BEGIN:VCALENDAR
VERSION:2.0
PRODID:-//Luften är Fri - ECPv5.9.0//NONSGML v1.0//EN
CALSCALE:GREGORIAN
METHOD:PUBLISH
X-WR-CALNAME:Luften är Fri
X-ORIGINAL-URL:https://www.luftenarfri.nu
X-WR-CALDESC:Händelser för Luften är Fri
BEGIN:VTIMEZONE
TZID:Europe/Stockholm
BEGIN:DAYLIGHT
TZOFFSETFROM:+0100
TZOFFSETTO:+0200
TZNAME:CEST
DTSTART:20210328T010000
END:DAYLIGHT
BEGIN:STANDARD
TZOFFSETFROM:+0200
TZOFFSETTO:+0100
TZNAME:CET
DTSTART:20211031T010000
END:STANDARD
END:VTIMEZONE
BEGIN:VEVENT
DTSTART;TZID=Europe/Stockholm:20210312T110000
DTEND;TZID=Europe/Stockholm:20210312T170000
DTSTAMP:20260422T202045
CREATED:20210112T112635Z
LAST-MODIFIED:20210112T112635Z
UID:1121-1615546800-1615568400@www.luftenarfri.nu
SUMMARY:Veckans tipspromenad; tema Följ med oss ut
DESCRIPTION:Gå på tipspromenad i skogen\, nya frågor varje fredag. \nNaturum Värmland är stängt med anledning av covid-19. För att kunna fortsätta ha tipspromenad varje vecka är det under den här perioden gratis\, men utan dragning av vinnare. Ta med egen lapp och penna\, eller låna ur lådan vid Naturum Värmland\, där också de rätta svaren finns uppsatta.
URL:https://www.luftenarfri.nu/evenemang/veckans-tipspromenad-tema-folj-med-oss-ut/2021-03-12/
LOCATION:Naturum Värmland\, Mariebergsskogen AB\, Karlstad\, Värmland\, 65184\, Sverige
CATEGORIES:Skogsnära,Vardagsnära
ORGANIZER;CN="Naturum%20V%26auml%3Brmland":MAILTO:naturumvarmland@karlstad.se
GEO:59.3699191;13.4870507
X-APPLE-STRUCTURED-LOCATION;VALUE=URI;X-ADDRESS=Naturum Värmland Mariebergsskogen AB Karlstad Värmland 65184 Sverige;X-APPLE-RADIUS=500;X-TITLE=Mariebergsskogen AB:geo:13.4870507,59.3699191
END:VEVENT
END:VCALENDAR