BEGIN:VCALENDAR
VERSION:2.0
PRODID:-//Luften är Fri - ECPv5.9.0//NONSGML v1.0//EN
CALSCALE:GREGORIAN
METHOD:PUBLISH
X-WR-CALNAME:Luften är Fri
X-ORIGINAL-URL:https://www.luftenarfri.nu
X-WR-CALDESC:Händelser för Luften är Fri
BEGIN:VTIMEZONE
TZID:Europe/Stockholm
BEGIN:DAYLIGHT
TZOFFSETFROM:+0100
TZOFFSETTO:+0200
TZNAME:CEST
DTSTART:20210328T010000
END:DAYLIGHT
BEGIN:STANDARD
TZOFFSETFROM:+0200
TZOFFSETTO:+0100
TZNAME:CET
DTSTART:20211031T010000
END:STANDARD
END:VTIMEZONE
BEGIN:VEVENT
DTSTART;VALUE=DATE:20210419
DTEND;VALUE=DATE:20210420
DTSTAMP:20260423T003357
CREATED:20210413T113633Z
LAST-MODIFIED:20210413T113633Z
UID:17164-1618790400-1618876799@www.luftenarfri.nu
SUMMARY:Veckans 12:a Tipspromenad
DESCRIPTION:Våren 2020 gick deltagarna sammanlagda sträckan Finspång – Gibraltar. \n\n\nHur långt kommer vi i vår och vad nytt lär du dig? \nNu återkommer den populära möjligheten att i dessa tider gå tipspromenaden vid Lunddalen under hela veckan. Tipspromenadens längd 2\,5 km längs elljusspåret i fin omgivande skogsterräng.\nUtbyte av frågor sker varje måndag förmiddag med en sista omgång måndag 14/6. \nTipslappar finns vid anslagstavlan\, när du gått rundan finns möjlighet att lägga en del av tipskupongen med namn o telefon nummer i postlådan vid sista frågan. På det sättet deltar du i veckans deltagarutlottning. \nEgen rättning – Rätta raden kommer att finns på vår hemsida www.frilufstframjandet.se/finspang \nVälkomna önskar \nFriluftsfrämjandet – PRO – IOGT/NTO
URL:https://www.luftenarfri.nu/evenemang/veckans-12a-tipspromenad/2021-04-19/
LOCATION:Lunddalen – Finspång\, Lunddalen - Norrmalm\, Finspång\, Finspång\, 61296\, Sverige
CATEGORIES:Skogsnära
ATTACH;FMTTYPE=image/jpeg:https://www.luftenarfri.nu/wp-content/uploads/2021/04/Vandring.jpg
GEO:58.73367;15.7703325
X-APPLE-STRUCTURED-LOCATION;VALUE=URI;X-ADDRESS=Lunddalen – Finspång Lunddalen - Norrmalm Finspång Finspång 61296 Sverige;X-APPLE-RADIUS=500;X-TITLE=Lunddalen - Norrmalm:geo:15.7703325,58.73367
END:VEVENT
END:VCALENDAR