BEGIN:VCALENDAR
VERSION:2.0
PRODID:-//Luften är Fri - ECPv5.9.0//NONSGML v1.0//EN
CALSCALE:GREGORIAN
METHOD:PUBLISH
X-WR-CALNAME:Luften är Fri
X-ORIGINAL-URL:https://www.luftenarfri.nu
X-WR-CALDESC:Händelser för Luften är Fri
BEGIN:VTIMEZONE
TZID:Europe/Stockholm
BEGIN:DAYLIGHT
TZOFFSETFROM:+0100
TZOFFSETTO:+0200
TZNAME:CEST
DTSTART:20210328T010000
END:DAYLIGHT
BEGIN:STANDARD
TZOFFSETFROM:+0200
TZOFFSETTO:+0100
TZNAME:CET
DTSTART:20211031T010000
END:STANDARD
END:VTIMEZONE
BEGIN:VEVENT
DTSTART;TZID=Europe/Stockholm:20210315T080000
DTEND;TZID=Europe/Stockholm:20210315T180000
DTSTAMP:20260422T232924
CREATED:20210316T091108Z
LAST-MODIFIED:20210316T091108Z
UID:13363-1615795200-1615831200@www.luftenarfri.nu
SUMMARY:Vandra med konstverk i Fulltofta
DESCRIPTION:Vandra och se konst svävande i trädkronorna i Fulltofta strövområde. Stiftelsen Skånska Landskap visar utomhusutställningen ”I natt är vi sårbara” på Ravinslingan som är en tillgänglig slinga på ca 1 km. \nKonstnären Liv Vesterskov vill lyfta ämnet sårbarhet under coronakrisen. Hon beskriver: Det är en tid då gränserna stänger mellan landsdelar\, länder och människor. Som en lång sömn vi inte vet hur länge vi kommer vara i. I natt är vi sårbara är en vandring i skogen\, ett konstverk av gips som undersöker samtidens sårbarhet och vad vi kan upptäcka i den och om oss själva om vi ser efter. \nLäs mer om Fulltofta strövområdes alla vandringsleder\, grillplatser\, Naturcentrum mm. \n  \n 
URL:https://www.luftenarfri.nu/evenemang/vandra-med-konstverk-i-fulltofta/2021-03-15/
LOCATION:Fulltofta Naturcentrum\, Stiftelsen Skånska Landskap\, Kvarröd 4058\, Hörby\, 24294\, Sverige
CATEGORIES:Skogsnära
ORGANIZER;CN="Stiftelsen%20Sk%26aring%3Bnska%20Landskap":MAILTO:info@skanskalandskap.se
GEO:55.8890469;13.6402399
X-APPLE-STRUCTURED-LOCATION;VALUE=URI;X-ADDRESS=Fulltofta Naturcentrum Stiftelsen Skånska Landskap Kvarröd 4058 Hörby 24294 Sverige;X-APPLE-RADIUS=500;X-TITLE=Kvarröd 4058:geo:13.6402399,55.8890469
END:VEVENT
END:VCALENDAR