BEGIN:VCALENDAR
VERSION:2.0
PRODID:-//Luften är Fri - ECPv5.9.0//NONSGML v1.0//EN
CALSCALE:GREGORIAN
METHOD:PUBLISH
X-WR-CALNAME:Luften är Fri
X-ORIGINAL-URL:https://www.luftenarfri.nu
X-WR-CALDESC:Händelser för Luften är Fri
BEGIN:VTIMEZONE
TZID:Europe/Stockholm
BEGIN:DAYLIGHT
TZOFFSETFROM:+0100
TZOFFSETTO:+0200
TZNAME:CEST
DTSTART:20210328T010000
END:DAYLIGHT
BEGIN:STANDARD
TZOFFSETFROM:+0200
TZOFFSETTO:+0100
TZNAME:CET
DTSTART:20211031T010000
END:STANDARD
END:VTIMEZONE
BEGIN:VEVENT
DTSTART;VALUE=DATE:20210401
DTEND;VALUE=DATE:20210402
DTSTAMP:20260422T202232
CREATED:20210323T131502Z
LAST-MODIFIED:20210323T131502Z
UID:14800-1617235200-1617321599@www.luftenarfri.nu
SUMMARY:Vallentuna - Hela Sveriges Friluftsdag varje dag hela april
DESCRIPTION:Skogsbada\, cykla\, fågelskåda\, vandra\, plaska\, rid eller bara sitt i solen! Just nu pågår Sveriges hittills största satsning för friluftsliv – Friluftslivets år 2021. Under parollen ”Luften är fri” arbetar över 150 organisationer tillsammans för att få fler människor att prova friluftsliv. I Vallentuna kommun kommer friluftsföreningarna arrangera friluftslivets dag varje dag hela april! \nEn kalender med diplom och utlottning\nAlla aktiviteter dag för dag samlas i en kalender\, som kommer att finnas att skriva ut via upplevvallentuna.se/friluftslivets-ar eller hämtas på Kontaktcenter i Vallentuna kulturhus och samtliga bibliotek. Information om varje aktivitet kommer att publiceras på facebook-sidan @fritidvallentuna. \nDe som deltar på minst 10 aktiviteter får diplom och är med på utlottning av spännande friluftsupplevelser. \nCorona-restriktioner och friluftslivsaktiviteter\nJust nu är det svårt att umgås med nära och kära. Men utomhus\, i mindre grupper och med avstånd\, kan vi uppleva naturen tillsammans – så länge vi följer aktuella restriktioner. När vi är många i naturen är det extra viktigt att vi visar hänsyn. \nSamtliga aktiviteter har planerats utifrån Folkhälsomyndighetens rekommendationer och vi kommer sprida ut oss så att inga nya närkontakter skapas. Flera aktiviteter går att utföra på egen hand och om ett stort intresse visas för en aktivitet kan det innebära turordning för deltagande.
URL:https://www.luftenarfri.nu/evenemang/vallentuna-hela-sveriges-friluftsdag-varje-dag-hela-april/2021-04-01/
LOCATION:Vallentuna kommun\, Allévägen 1\, VALLENTUNA\, 18695\, Sverige
ATTACH;FMTTYPE=image/png:https://www.luftenarfri.nu/wp-content/uploads/2021/03/Skarmklipp-1.png
GEO:59.534261;18.076655
X-APPLE-STRUCTURED-LOCATION;VALUE=URI;X-ADDRESS=Vallentuna kommun Allévägen 1 VALLENTUNA 18695 Sverige;X-APPLE-RADIUS=500;X-TITLE=Allévägen 1:geo:18.076655,59.534261
END:VEVENT
END:VCALENDAR