BEGIN:VCALENDAR
VERSION:2.0
PRODID:-//Luften är Fri - ECPv5.9.0//NONSGML v1.0//EN
CALSCALE:GREGORIAN
METHOD:PUBLISH
X-WR-CALNAME:Luften är Fri
X-ORIGINAL-URL:https://www.luftenarfri.nu
X-WR-CALDESC:Händelser för Luften är Fri
BEGIN:VTIMEZONE
TZID:Europe/Stockholm
BEGIN:DAYLIGHT
TZOFFSETFROM:+0100
TZOFFSETTO:+0200
TZNAME:CEST
DTSTART:20210328T010000
END:DAYLIGHT
BEGIN:STANDARD
TZOFFSETFROM:+0200
TZOFFSETTO:+0100
TZNAME:CET
DTSTART:20211031T010000
END:STANDARD
END:VTIMEZONE
BEGIN:VEVENT
DTSTART;TZID=Europe/Stockholm:20210312T080000
DTEND;TZID=Europe/Stockholm:20210312T170000
DTSTAMP:20260422T202232
CREATED:20210305T101642Z
LAST-MODIFIED:20210312T102020Z
UID:10602-1615536000-1615568400@www.luftenarfri.nu
SUMMARY:Utforska de västgötska platåbergen och bocka av alla femton under friluftslivets år 2021
DESCRIPTION:Ta med dig barnen\, träningskompisarna\, kollegorna eller PRO-gänget och ge er ut på vardagsäventyr. Kombinera expeditionerna med en fikakorg\, stormköket eller något gott från ditt lokala cafe och upplev våra berg och landskapet där emellan. Hur du vill – till fots\, på mountainbike\, kanot\, skidor eller snöskor. När du vill – Gör det på en vecka eller använd årets alla 365 dagar. Du tar det i din egen tid och takt. Och du! Glöm inte allemansrätten; att inte störa inte förstöra men framför allt\, ut och njut av vårt speciella platåbergslandskap!
URL:https://www.luftenarfri.nu/evenemang/utforska-de-vastgotska-platabergen-och-bocka-av-alla-femton-under-friluftslivets-ar-2021/2021-03-12/
LOCATION:västergötland
CATEGORIES:Skogsnära
ATTACH;FMTTYPE=image/jpeg:https://www.luftenarfri.nu/wp-content/uploads/2021/03/expedition15-ryds_grottor_logo-stories.jpg
ORGANIZER;CN="Plat%26aring%3Bbergens%20Geopark":MAILTO:info@platabergensgeopark.se
END:VEVENT
END:VCALENDAR