BEGIN:VCALENDAR
VERSION:2.0
PRODID:-//Luften är Fri - ECPv5.9.0//NONSGML v1.0//EN
CALSCALE:GREGORIAN
METHOD:PUBLISH
X-WR-CALNAME:Luften är Fri
X-ORIGINAL-URL:https://www.luftenarfri.nu
X-WR-CALDESC:Händelser för Luften är Fri
BEGIN:VTIMEZONE
TZID:Europe/Stockholm
BEGIN:DAYLIGHT
TZOFFSETFROM:+0100
TZOFFSETTO:+0200
TZNAME:CEST
DTSTART:20210328T010000
END:DAYLIGHT
BEGIN:STANDARD
TZOFFSETFROM:+0200
TZOFFSETTO:+0100
TZNAME:CET
DTSTART:20211031T010000
END:STANDARD
END:VTIMEZONE
BEGIN:VEVENT
DTSTART;TZID=Europe/Stockholm:20210110T100000
DTEND;TZID=Europe/Stockholm:20210110T150000
DTSTAMP:20260422T185018
CREATED:20201222T140842Z
LAST-MODIFIED:20210303T132905Z
UID:901-1610272800-1610290800@www.luftenarfri.nu
SUMMARY:Upptäck Bohus-Malmön – guidad vandring
DESCRIPTION:Naturvandring på vackra Bohus-Malmön i lugnt tempo. Fokus ligger på naturupplevelse och njutvandring. Ön är känd för fina vandringsleder med vackra vyer liksom för sina många stenbrott. Vi ”vandrar med vargar”. \nVi får en härlig utomhusdag med havsvyer\, granithällar och bryggtramp. Vi upplever skogsdungar\, hav\, stränder\, vidsträcka utsikter och pittoreska samhällen. Vi gör några guidestopp under vandringen så ni får veta mer om ön\, naturen och kulturen – som öns stenhuggarepok och vargparken. Vi går över klippor under delar av vandringen. \nAntal gäster anpassas utifrån Folkhälsomyndighetens regler. Handsprit finns. \nLängs vandringsrutten stannar vi för fikapaus och sedan lunch\, båda utomhus med avstånd. Kunniga Salta guiden Anette Bargel leder vandringen. Hon är certifierad Bohuslänguide.\nVi är utomhus på ön i ca 4\,5-5 timmar och vandrar ca 8 km. Vi gör fikastopp och lunchstopp. Ta med egen fika och välj mellan biljett där lunch ingår eller ha med egen matsäck.\nPris inkl. lunch vuxen: 550 kr. Junior 10-12 år 190 kr.\nPris exkl. lunch vuxen: 400 kr\, junior 100 kr. \nVandringen sker kl. 10-1430 ca. Tänk på att gratisfärjan som passar går kl. 0930. Kom i tid då vi förflyttar oss kort efter starttiden.\nDatum 10 januari\, 21 februari\, 7 mars\, 11 april\, 1 maj. \nBOKA OCH LÄS MER PÅ LÄNKEN. Förbokning behövs pga corona. Generösa avbokningsregler. \nTa med vatten\, fika\, förstärkningsplagg för matstoppen och en vindtät jacka. En liten ryggsäck är praktiskt. Sittlapp om du har\, annars har guiden det. Tänk på att ha bra skor; som vandringskängor eller annars gymnastikskor så du har bra grepp. \nEn varg är en sten som stenhuggaren jobbat med länge och sedan får en felklyvning så stenen måste kasseras. Då blir den en varg. En sten stenhuggaren inte får betalt för men har lagt arbetstid på. \nArrangeras av Salta Guiden i samarbete med Bohusläns Guider och Studieförbundet Vuxenskolan Väst. Se fler naturupplevelser på saltaguiden.se \nVälkomna!
URL:https://www.luftenarfri.nu/evenemang/upptack-bohus-malmon-guidad-vandring/2021-01-10/
LOCATION:Bohus-Malmön\, Strandvägen 23\, Bohus-Malmön\, Västra Götaland\, 456 55\, Sverige
CATEGORIES:Strandnära,Vardagsnära
ATTACH;FMTTYPE=image/jpeg:https://www.luftenarfri.nu/wp-content/uploads/2020/12/IMG_8512-scaled.jpg
ORGANIZER;CN="Salta%20Guiden%20V%26auml%3Bstsverige":MAILTO:info@saltaguiden.se
GEO:58.3478469;11.3387018
X-APPLE-STRUCTURED-LOCATION;VALUE=URI;X-ADDRESS=Bohus-Malmön Strandvägen 23 Bohus-Malmön Västra Götaland 456 55 Sverige;X-APPLE-RADIUS=500;X-TITLE=Strandvägen 23:geo:11.3387018,58.3478469
END:VEVENT
END:VCALENDAR