BEGIN:VCALENDAR
VERSION:2.0
PRODID:-//Luften är Fri - ECPv5.9.0//NONSGML v1.0//EN
CALSCALE:GREGORIAN
METHOD:PUBLISH
X-WR-CALNAME:Luften är Fri
X-ORIGINAL-URL:https://www.luftenarfri.nu
X-WR-CALDESC:Händelser för Luften är Fri
BEGIN:VTIMEZONE
TZID:Europe/Stockholm
BEGIN:DAYLIGHT
TZOFFSETFROM:+0100
TZOFFSETTO:+0200
TZNAME:CEST
DTSTART:20210328T010000
END:DAYLIGHT
BEGIN:STANDARD
TZOFFSETFROM:+0200
TZOFFSETTO:+0100
TZNAME:CET
DTSTART:20211031T010000
END:STANDARD
END:VTIMEZONE
BEGIN:VEVENT
DTSTART;TZID=Europe/Stockholm:20210503T080000
DTEND;TZID=Europe/Stockholm:20210503T170000
DTSTAMP:20260423T072630
CREATED:20210503T123916Z
LAST-MODIFIED:20210507T124658Z
UID:23728-1620028800-1620061200@www.luftenarfri.nu
SUMMARY:Upplev Grimstas höjder- Upptäck Grimsta naturreservat
DESCRIPTION:Följ Grimstaskogens slingriga skogsstigar ut till de öppna partierna uppe på höjderna. Här har du en vacker utsikt över Mälaren. Den glesa tallskogen på höjderna i växer långsamt och har ofta en mycket hög ålder. Detta gör att hällmarken har stora ekologiska värden. I Grimsta finns också en av Stockholms få förekomster av den ovanliga växten ryl.  \nTill Grimsta naturreservat kan du lätt promenera eller cykla för att jogga\, bada\, eller ta en svamp- och bärplockarrunda. Grimstaskogen erbjuder goda möjligheter till rofyllda promenader längs Mälarstranden Längs de lummiga strandpromenaderna finns biologiskt värdefulla våtmarker. Vid Maltesholm och Tyska botten sträcker gamla grova ekar ut sina knotiga grenar över stigen. De öppna ängsmarkerna inbjuder till picknick eller andra aktiviteter. För joggaren finns upplysta motionsspår och utegym. Kanaans trädgårdscafé är öppet året runt\, vid Maltesholmsbadet finns sommartid en kiosk. Vid Kanaanbadet finns grillplats. \nDu hittar alla spår på Naturkartan. \nMotion eller promenad\nTill Grimsta naturreservat kan du lätt promenera eller cykla för att jogga\, bada\, eller ta en svamp- och bärplockarrunda. Grimstaskogen erbjuder goda möjligheter till rofyllda promenader längs Mälarstranden Längs de lummiga strandpromenaderna finns biologiskt värdefulla våtmarker. Vid Maltesholm och Tyska botten sträcker gamla grova ekar ut sina knotiga grenar över stigen. De öppna ängsmarkerna inbjuder till picknick eller andra aktiviteter. För joggaren finns upplysta motionsspår och utegym. Kanaans trädgårdscafé är öppet året runt\, vid Maltesholmsbadet finns sommartid en kiosk. Vid Kanaanbadet finns grillplats. \nSå här på våren vill vi särskilt uppmärksamma dig på att koppla hunden och att följa regler om eldning. Tänk på att lämna naturen som den var när du kom dit.
URL:https://www.luftenarfri.nu/evenemang/upplev-grimstas-hojder-upptack-grimsta-naturreservat/2021-05-03/
LOCATION:Grimstaskogens naturrservat\, Grimsta\, Stockholm\, Sverige
CATEGORIES:Skogsnära,Vardagsnära
ATTACH;FMTTYPE=image/jpeg:https://www.luftenarfri.nu/wp-content/uploads/2021/05/racksta-trask_webb.jpg
ORGANIZER;CN="Milj%26ouml%3Bf%26ouml%3Brvaltningen%20i%20Stockholms%20stad":MAILTO:miljoforvaltningen@stockholm.se
GEO:59.3591284;17.8594448
X-APPLE-STRUCTURED-LOCATION;VALUE=URI;X-ADDRESS=Grimstaskogens naturrservat Grimsta Stockholm Sverige;X-APPLE-RADIUS=500;X-TITLE=Grimsta:geo:17.8594448,59.3591284
END:VEVENT
END:VCALENDAR