BEGIN:VCALENDAR
VERSION:2.0
PRODID:-//Luften är Fri - ECPv5.9.0//NONSGML v1.0//EN
CALSCALE:GREGORIAN
METHOD:PUBLISH
X-WR-CALNAME:Luften är Fri
X-ORIGINAL-URL:https://www.luftenarfri.nu
X-WR-CALDESC:Händelser för Luften är Fri
BEGIN:VTIMEZONE
TZID:Europe/Stockholm
BEGIN:DAYLIGHT
TZOFFSETFROM:+0100
TZOFFSETTO:+0200
TZNAME:CEST
DTSTART:20210328T010000
END:DAYLIGHT
BEGIN:STANDARD
TZOFFSETFROM:+0200
TZOFFSETTO:+0100
TZNAME:CET
DTSTART:20211031T010000
END:STANDARD
END:VTIMEZONE
BEGIN:VEVENT
DTSTART;TZID=Europe/Stockholm:20210822T090000
DTEND;TZID=Europe/Stockholm:20210822T123000
DTSTAMP:20260423T011107
CREATED:20210823T124323Z
LAST-MODIFIED:20210823T124323Z
UID:32141-1629622800-1629635400@www.luftenarfri.nu
SUMMARY:TIPSPROMENAD
DESCRIPTION:Välkommen att gå vår omtyckta tipspromenad.  \nTvå sträckor att välja på. Kort (3 km) och lång (4 km) bana. Utefter promenaden är 15 vuxen- och 15 barnfrågor samt 10 bingoskyltar uppsatta.\nEfter promenaden: Gör ett besök i vår servering med diverse hembakat och inte minst våfflor med sylt och grädde. Serveringen öppen 09.00-14.00.
URL:https://www.luftenarfri.nu/evenemang/tipspromenad/2021-08-22/
LOCATION:Öxnegården\, Huskvarna\, Oxhagsgatan 115\, Huskvarna\, 561 50\, Sverige
CATEGORIES:Vardagsnära
ATTACH;FMTTYPE=image/jpeg:https://www.luftenarfri.nu/wp-content/uploads/2021/08/Oxnegarden-luften-ar-fri.jpg
ORGANIZER;CN="Friluftsfr%26auml%3Bmjadet%20%26Ouml%3Bxneg%26aring%3Brden":MAILTO:frilufts.oxnegarden@telia.com
GEO:57.7748298;14.254479
X-APPLE-STRUCTURED-LOCATION;VALUE=URI;X-ADDRESS=Öxnegården Huskvarna Oxhagsgatan 115 Huskvarna 561 50 Sverige;X-APPLE-RADIUS=500;X-TITLE=Oxhagsgatan 115:geo:14.254479,57.7748298
END:VEVENT
END:VCALENDAR