BEGIN:VCALENDAR
VERSION:2.0
PRODID:-//Luften är Fri - ECPv5.9.0//NONSGML v1.0//EN
CALSCALE:GREGORIAN
METHOD:PUBLISH
X-WR-CALNAME:Luften är Fri
X-ORIGINAL-URL:https://www.luftenarfri.nu
X-WR-CALDESC:Händelser för Luften är Fri
BEGIN:VTIMEZONE
TZID:Europe/Stockholm
BEGIN:DAYLIGHT
TZOFFSETFROM:+0100
TZOFFSETTO:+0200
TZNAME:CEST
DTSTART:20210328T010000
END:DAYLIGHT
BEGIN:STANDARD
TZOFFSETFROM:+0200
TZOFFSETTO:+0100
TZNAME:CET
DTSTART:20211031T010000
END:STANDARD
END:VTIMEZONE
BEGIN:VEVENT
DTSTART;TZID=Europe/Stockholm:20210306T100000
DTEND;TZID=Europe/Stockholm:20210306T133000
DTSTAMP:20260422T233049
CREATED:20210301T072506Z
LAST-MODIFIED:20210301T072506Z
UID:8645-1615024800-1615037400@www.luftenarfri.nu
SUMMARY:TIPSPROMENAD PÅ PETERSBURG I SÖDERKÖPING 6 MARS MED KOMPIS
DESCRIPTION:Friluftsfrämjandet Lokalavdelning i Söderköping inbjuder till Coronasäkra friluftsaktiviteter under 2021 \nTipspromenader 6 och 20 mars. \nStart på Petersburgs parkeringsplats kl. 10:00 till 13:30 \nTa med barn och kompisar. \nVi bjuder på grillkorv och något mera. \nAlla i Söderköping  är välkomna.
URL:https://www.luftenarfri.nu/evenemang/tipspromenad-pa-petersburg-i-soderkoping-6-mars-med-kompis/2021-03-06/
CATEGORIES:Skogsnära,Vardagsnära
END:VEVENT
END:VCALENDAR