BEGIN:VCALENDAR
VERSION:2.0
PRODID:-//Luften är Fri - ECPv5.9.0//NONSGML v1.0//EN
CALSCALE:GREGORIAN
METHOD:PUBLISH
X-WR-CALNAME:Luften är Fri
X-ORIGINAL-URL:https://www.luftenarfri.nu
X-WR-CALDESC:Händelser för Luften är Fri
BEGIN:VTIMEZONE
TZID:Europe/Stockholm
BEGIN:DAYLIGHT
TZOFFSETFROM:+0100
TZOFFSETTO:+0200
TZNAME:CEST
DTSTART:20210328T010000
END:DAYLIGHT
BEGIN:STANDARD
TZOFFSETFROM:+0200
TZOFFSETTO:+0100
TZNAME:CET
DTSTART:20211031T010000
END:STANDARD
END:VTIMEZONE
BEGIN:VEVENT
DTSTART;TZID=Europe/Stockholm:20210220T070000
DTEND;TZID=Europe/Stockholm:20210220T180000
DTSTAMP:20260423T024747
CREATED:20210222T082151Z
LAST-MODIFIED:20210223T112756Z
UID:8405-1613804400-1613844000@www.luftenarfri.nu
SUMMARY:Tipspromenad i Järavallen om Allemansrätten
DESCRIPTION:Under sportlovet v 8 kan du gå en kortare tipspromenad i Järavallen och lära dig om Allemansrätten & Allemanskyldigheten. \nTipsrundan går längs Röda slingan\, 2\,2 km\, är helt digital och anpassad för barn och vuxna. Allt du behöver är en smartphone med möjlighet att ladda ned appen ”Tipsrundan” och skanna QR-koden på våra infotavlor längs stigen. Information finns uppe på våra tavlor från lördag v 7. \nVill du läsa på om Allemansrätten innan du ger dig ut? Kika under Bra att veta så att du får bättre koll! \nLäs mer om vårt Järavallen strövområde med vandringsleder\, mtb-led\, ridled och vacker natur. \nUnder vecka 9 meddelar vi de rätta svaren på vår hemsida.
URL:https://www.luftenarfri.nu/evenemang/tipspromenad-i-jaravallen-om-allemansratten/2021-02-20/
LOCATION:Järavallen strövområde\, västra parkeringen\, Hofterup\, Kävlinge\, Sverige
CATEGORIES:Skogsnära
ATTACH;FMTTYPE=image/jpeg:https://www.luftenarfri.nu/wp-content/uploads/2021/02/Jaravallen-TL-5.jpg
ORGANIZER;CN="Stiftelsen%20Sk%26aring%3Bnska%20Landskap":MAILTO:info@skanskalandskap.se
GEO:55.805713031544;12.938733548657
X-APPLE-STRUCTURED-LOCATION;VALUE=URI;X-ADDRESS=Järavallen strövområde västra parkeringen Hofterup Kävlinge Sverige;X-APPLE-RADIUS=500;X-TITLE=Hofterup:geo:12.938733548657,55.805713031544
END:VEVENT
END:VCALENDAR