BEGIN:VCALENDAR
VERSION:2.0
PRODID:-//Luften är Fri - ECPv5.9.0//NONSGML v1.0//EN
CALSCALE:GREGORIAN
METHOD:PUBLISH
X-WR-CALNAME:Luften är Fri
X-ORIGINAL-URL:https://www.luftenarfri.nu
X-WR-CALDESC:Händelser för Luften är Fri
BEGIN:VTIMEZONE
TZID:Europe/Stockholm
BEGIN:DAYLIGHT
TZOFFSETFROM:+0100
TZOFFSETTO:+0200
TZNAME:CEST
DTSTART:20210328T010000
END:DAYLIGHT
BEGIN:STANDARD
TZOFFSETFROM:+0200
TZOFFSETTO:+0100
TZNAME:CET
DTSTART:20211031T010000
END:STANDARD
END:VTIMEZONE
BEGIN:VEVENT
DTSTART;VALUE=DATE:20210125
DTEND;VALUE=DATE:20210126
DTSTAMP:20260422T185604
CREATED:20210125T152305Z
LAST-MODIFIED:20210125T153125Z
UID:5172-1611532800-1611619199@www.luftenarfri.nu
SUMMARY:Tips-promenad om allemansrätten
DESCRIPTION:TIPS-ORIENTERING\nNu finns en utmaning för alla åldrar uthängd i centrala Alfta. Passar lika bra för barn/unga som vill lära sig mer om Allemansrätten\, som för äldre som vill testa sina kunskaper.\n\nTipspromenaden är cirka 2.5 km lång (men kan bli längre om man ”vill”) och innehåller 10 stycken frågor.\n\n\n\nStart och mål vid AÖOK:s anslagstavla vid Sporthallens parkering. i Alfta.\n\nDär finns affisch om Allemansrätten som kan vara bra att läsa på innan start. \n\n\n\nFörsta uppgiften/frågan får ni vid starten. Sedan gäller det att välja rätt svarsalternativ på tipsfrågan – samt memorera kartan för att hitta till nästa fråga (se exempel-bild) \n\n\n\nHittar ni till rätt svar/kontroll hänger en ny tipsfråga där som leder till tre nya möjliga kontroller. Kommer nu fel hänger ingenting…\n\n\n\nOrienteringsbanan i sig är inte så svår\, men iom att man ska memorera sträckorna samt det faktum att man behöver kunskaper om Allemansrätten kan den bli en utmaning för alla! \n\nPassar bra även i snö (mestadels väg och skoterspår).\n\n\nPris utlottas bland alla som lämnar in svar\, vilka kan lämnas vid starten/målet i brevlådan på anslagstavlan.\n\n\nAlla är välkomna!
URL:https://www.luftenarfri.nu/evenemang/tips-promenad-om-allemansratten-2/2021-01-25/
LOCATION:Alfta\, Alfta\, Gävleborg\, 82231
CATEGORIES:Vardagsnära
ATTACH;FMTTYPE=image/jpeg:https://www.luftenarfri.nu/wp-content/uploads/2021/01/140832746_1599693853551264_3076704878458225432_n.jpg
ORGANIZER;CN="Alfta-%26Ouml%3BSA%20OK":MAILTO:info@alfta-osa.se
GEO:61.3483347;16.0492687
END:VEVENT
END:VCALENDAR