BEGIN:VCALENDAR
VERSION:2.0
PRODID:-//Luften är Fri - ECPv5.9.0//NONSGML v1.0//EN
CALSCALE:GREGORIAN
METHOD:PUBLISH
X-WR-CALNAME:Luften är Fri
X-ORIGINAL-URL:https://www.luftenarfri.nu
X-WR-CALDESC:Händelser för Luften är Fri
BEGIN:VTIMEZONE
TZID:Europe/Stockholm
BEGIN:DAYLIGHT
TZOFFSETFROM:+0100
TZOFFSETTO:+0200
TZNAME:CEST
DTSTART:20210328T010000
END:DAYLIGHT
BEGIN:STANDARD
TZOFFSETFROM:+0200
TZOFFSETTO:+0100
TZNAME:CET
DTSTART:20211031T010000
END:STANDARD
END:VTIMEZONE
BEGIN:VEVENT
DTSTART;TZID=Europe/Stockholm:20210914T180000
DTEND;TZID=Europe/Stockholm:20210914T200000
DTSTAMP:20260423T053906
CREATED:20210907T100708Z
LAST-MODIFIED:20210907T100708Z
UID:32624-1631642400-1631649600@www.luftenarfri.nu
SUMMARY:Svampkurs för nybörjare
DESCRIPTION:I samarbete med Studiefrämjandet och Svenskt Friluftsliv anordnar Habo kommun en svampkurs för nybörjare. \nKursen är kostnadsfri för dig som bor i Habo kommun! \n\nUnder kursens gång träffas varje grupp två gånger. Första träffen är tisdagen den 14 september klockan 18.00 – 20.30 i kommunhuset i Habo. Vår kursledare Lars-Göran Hellsten berättar om olika svampar och var man kan hitta dem\, visar bilder och har också med svampar vi kan titta närmre på. \nAlla deltagare i kursen får också varsin svampbok. \nNästa träff är utomhus\, grupp 1 träffas lördagen den 18 september klockan 10.00 – 13.00 och grupp 2 träffas söndagen den 19 september klockan 10.00 – 13.00. \nKursledaren guidar oss skogsområden med många olika sorters svampar och lär oss känna igen de olika sorterna vi hittar. \nFika ingår vid samtliga träffar. \nAnmäl dig senast den 12/9 på telefon 036-442 8115 eller via epost till fritidkultur@habokommun.se. \nVarmt välkomna!
URL:https://www.luftenarfri.nu/evenemang/svampkurs-for-nyborjare/2021-09-14/
LOCATION:Habo\, Jönköpingsvägen 19\, Habo\, 566 31\, Sverige
CATEGORIES:Skogsnära,Vardagsnära
ATTACH;FMTTYPE=image/jpeg:https://www.luftenarfri.nu/wp-content/uploads/2021/09/Karljohan.jpg
ORGANIZER;CN="Habo%20kommun":MAILTO:Fritidkultur@habokommun.se
GEO:57.9067424;14.0802126
X-APPLE-STRUCTURED-LOCATION;VALUE=URI;X-ADDRESS=Habo Jönköpingsvägen 19 Habo 566 31 Sverige;X-APPLE-RADIUS=500;X-TITLE=Jönköpingsvägen 19:geo:14.0802126,57.9067424
END:VEVENT
END:VCALENDAR