BEGIN:VCALENDAR
VERSION:2.0
PRODID:-//Luften är Fri - ECPv5.9.0//NONSGML v1.0//EN
CALSCALE:GREGORIAN
METHOD:PUBLISH
X-WR-CALNAME:Luften är Fri
X-ORIGINAL-URL:https://www.luftenarfri.nu
X-WR-CALDESC:Händelser för Luften är Fri
BEGIN:VTIMEZONE
TZID:Europe/Stockholm
BEGIN:DAYLIGHT
TZOFFSETFROM:+0100
TZOFFSETTO:+0200
TZNAME:CEST
DTSTART:20210328T010000
END:DAYLIGHT
BEGIN:STANDARD
TZOFFSETFROM:+0200
TZOFFSETTO:+0100
TZNAME:CET
DTSTART:20211031T010000
END:STANDARD
END:VTIMEZONE
BEGIN:VEVENT
DTSTART;TZID=Europe/Stockholm:20210121T094500
DTEND;TZID=Europe/Stockholm:20210121T110000
DTSTAMP:20260422T190235
CREATED:20210118T073308Z
LAST-MODIFIED:20210118T085916Z
UID:2490-1611222300-1611226800@www.luftenarfri.nu
SUMMARY:Stavgång
DESCRIPTION:Stavgång i mindre grupper!\nLedarledd stavgång på Bondbergets naturreservats motionsspår. Stavgången startar klockan 10.00 från Öxnegården. Uppdelning i lätt\, medel och snabb grupp. Gruppstorlek max 8 deltagare. Stavar för nybörjare finns att att låna.  Hela aktiviteten hålls utomhus och är anpassas efter rådande rekommendationer. Medlemmar i friluftsfrämjandet gratis. \n 
URL:https://www.luftenarfri.nu/evenemang/stavgang/2021-01-21/
LOCATION:Öxnegården\, Huskvarna\, Oxhagsgatan 115\, Huskvarna\, 561 50\, Sverige
CATEGORIES:Skogsnära
ATTACH;FMTTYPE=image/jpeg:https://www.luftenarfri.nu/wp-content/uploads/2021/01/P1040079.jpg
ORGANIZER;CN="Friluftsfr%26auml%3Bmjadet%20%26Ouml%3Bxneg%26aring%3Brden":MAILTO:frilufts.oxnegarden@telia.com
GEO:57.7748298;14.254479
X-APPLE-STRUCTURED-LOCATION;VALUE=URI;X-ADDRESS=Öxnegården Huskvarna Oxhagsgatan 115 Huskvarna 561 50 Sverige;X-APPLE-RADIUS=500;X-TITLE=Oxhagsgatan 115:geo:14.254479,57.7748298
END:VEVENT
END:VCALENDAR