BEGIN:VCALENDAR
VERSION:2.0
PRODID:-//Luften är Fri - ECPv5.9.0//NONSGML v1.0//EN
CALSCALE:GREGORIAN
METHOD:PUBLISH
X-WR-CALNAME:Luften är Fri
X-ORIGINAL-URL:https://www.luftenarfri.nu
X-WR-CALDESC:Händelser för Luften är Fri
BEGIN:VTIMEZONE
TZID:Europe/Stockholm
BEGIN:DAYLIGHT
TZOFFSETFROM:+0100
TZOFFSETTO:+0200
TZNAME:CEST
DTSTART:20210328T010000
END:DAYLIGHT
BEGIN:STANDARD
TZOFFSETFROM:+0200
TZOFFSETTO:+0100
TZNAME:CET
DTSTART:20211031T010000
END:STANDARD
END:VTIMEZONE
BEGIN:VEVENT
DTSTART;VALUE=DATE:20210312
DTEND;VALUE=DATE:20210313
DTSTAMP:20260422T184917
CREATED:20210312T151909Z
LAST-MODIFIED:20210312T151909Z
UID:11687-1615507200-1615593599@www.luftenarfri.nu
SUMMARY:Spårbingo
DESCRIPTION:Ta med dig en förälder eller en kompis ut i naturen.\nGe dig ut och leta spår\, spår i snö är roligt och spännande.\nFörst till tre spår vinner. \nVälkommen ut i naturen!
URL:https://www.luftenarfri.nu/evenemang/sparbingo/2021-03-12/
LOCATION:Hemavan\, Hemavan\, 92066
CATEGORIES:Fjällnära,Skogsnära,Vardagsnära
ATTACH;FMTTYPE=image/jpeg:https://www.luftenarfri.nu/wp-content/uploads/2021/03/Sparbingo-kopia.jpg
ORGANIZER;CN="naturum%20Vindelfj%26auml%3Bllen%20Hemavan":MAILTO:naturum.hemavan@lansstyrelsen.se
GEO:65.814906;15.0876887
END:VEVENT
END:VCALENDAR