BEGIN:VCALENDAR
VERSION:2.0
PRODID:-//Luften är Fri - ECPv5.9.0//NONSGML v1.0//EN
CALSCALE:GREGORIAN
METHOD:PUBLISH
X-WR-CALNAME:Luften är Fri
X-ORIGINAL-URL:https://www.luftenarfri.nu
X-WR-CALDESC:Händelser för Luften är Fri
BEGIN:VTIMEZONE
TZID:Europe/Stockholm
BEGIN:DAYLIGHT
TZOFFSETFROM:+0100
TZOFFSETTO:+0200
TZNAME:CEST
DTSTART:20210328T010000
END:DAYLIGHT
BEGIN:STANDARD
TZOFFSETFROM:+0200
TZOFFSETTO:+0100
TZNAME:CET
DTSTART:20211031T010000
END:STANDARD
END:VTIMEZONE
BEGIN:VEVENT
DTSTART;VALUE=DATE:20210212
DTEND;VALUE=DATE:20210213
DTSTAMP:20260423T004259
CREATED:20210215T130823Z
LAST-MODIFIED:20210215T130823Z
UID:7208-1613088000-1613174399@www.luftenarfri.nu
SUMMARY:Skridsko på naturis
DESCRIPTION:Friluftsfrämjandet ger dig möjlighet att åka skridskor på en ca 5 km lång bana som är plogad på sjön Bönnern. \nParkering med gott om plats (längs gamla landsvägen) avfart Bönergården. Kort avstånd från vägbom till isen. \nAktuell information om banans status hittar du på skridsko.net/isinfo \nHa alltid rätt utrustning och sällskap när du vistas på naturis \nOBS all åkning på naturis sker på egen risk vilket även gäller för plogade banor. \n  \nHård is utan hindrande beläggning och med god jämnhet
URL:https://www.luftenarfri.nu/evenemang/skridsko-pa-naturis/2021-02-12/
LOCATION:Bönnern\, Finspång\, Finspång\, Finspång\, Sverige
CATEGORIES:Strandnära
GEO:58.7074884;15.773595
X-APPLE-STRUCTURED-LOCATION;VALUE=URI;X-ADDRESS=Bönnern Finspång Finspång Finspång Sverige;X-APPLE-RADIUS=500;X-TITLE=Finspång:geo:15.773595,58.7074884
END:VEVENT
END:VCALENDAR