BEGIN:VCALENDAR
VERSION:2.0
PRODID:-//Luften är Fri - ECPv5.9.0//NONSGML v1.0//EN
CALSCALE:GREGORIAN
METHOD:PUBLISH
X-WR-CALNAME:Luften är Fri
X-ORIGINAL-URL:https://www.luftenarfri.nu
X-WR-CALDESC:Händelser för Luften är Fri
BEGIN:VTIMEZONE
TZID:Europe/Stockholm
BEGIN:DAYLIGHT
TZOFFSETFROM:+0100
TZOFFSETTO:+0200
TZNAME:CEST
DTSTART:20210328T010000
END:DAYLIGHT
BEGIN:STANDARD
TZOFFSETFROM:+0200
TZOFFSETTO:+0100
TZNAME:CET
DTSTART:20211031T010000
END:STANDARD
END:VTIMEZONE
BEGIN:VEVENT
DTSTART;TZID=Europe/Stockholm:20210616T180000
DTEND;TZID=Europe/Stockholm:20210616T200000
DTSTAMP:20260423T040506
CREATED:20210628T082208Z
LAST-MODIFIED:20210628T082208Z
UID:30481-1623866400-1623873600@www.luftenarfri.nu
SUMMARY:Scouternas öppna kanotkvällar
DESCRIPTION:I sommar öppnar Kisa scoutkår upp vårt kanotstall för alla som är sugna på att prova på att paddla. Oavsett om du är nybörjare eller van\, med i scouterna eller sugen på att paddla en sväng\, är du välkommen. På plats finns scoutledare som hjälper dig att komma igång med enkla instruktioner. \nKanotstallet ligger i kvarteret Vråken i Kisa\, bakom Cafe Columbia. Därifrån kan man enkelt paddla ut via Kisaån till Kisasjön. Ta en mysig tur i ån\, eller hinner du ända till Kap Jocke ute i sjön? \nNär?\nKanotstallet är öppet onsdagar kl 18-20 under juni och juli. Det innebär att kanoten behöver vara tillbaka i kanotstallet senast kl 20. \nHur?\nFör att genomföra det pandemisäkert ser vi gärna att du förbokar. Skicka ett meddelande till oss via Facebook messenger med dina önskemål så bekräftar vi. Finns det obokade kanoter går det naturligtvis bra med drop-in. \nVad behöver jag ha med mig?\nKläder som passar vädret. Övrig utrustning finns på plats. \nOBS: Beroende på väder eller andra omständigheter kan vissa kvällar komma att bli inställda. Titta på Kisa scoutkårs Facebooksida för aktuell information. https://www.facebook.com/kisascoutkar \nKostnadsfritt.
URL:https://www.luftenarfri.nu/evenemang/scouternas-oppna-kanotkvallar/2021-06-16/
LOCATION:Kvarteret Vråken\, Storgatan 10\, Kisa\, 59040\, Sverige
CATEGORIES:Strandnära,Vardagsnära
ATTACH;FMTTYPE=image/jpeg:https://www.luftenarfri.nu/wp-content/uploads/2021/06/200208253_1225740301182118_8732255104692034664_n.jpeg
ORGANIZER;CN="Kisa%20Scoutk%26aring%3Br":MAILTO:info@kisascout.se
GEO:57.9873845;15.6346285
X-APPLE-STRUCTURED-LOCATION;VALUE=URI;X-ADDRESS=Kvarteret Vråken Storgatan 10 Kisa 59040 Sverige;X-APPLE-RADIUS=500;X-TITLE=Storgatan 10:geo:15.6346285,57.9873845
END:VEVENT
END:VCALENDAR