BEGIN:VCALENDAR
VERSION:2.0
PRODID:-//Luften är Fri - ECPv5.9.0//NONSGML v1.0//EN
CALSCALE:GREGORIAN
METHOD:PUBLISH
X-WR-CALNAME:Luften är Fri
X-ORIGINAL-URL:https://www.luftenarfri.nu
X-WR-CALDESC:Händelser för Luften är Fri
BEGIN:VTIMEZONE
TZID:Europe/Stockholm
BEGIN:DAYLIGHT
TZOFFSETFROM:+0100
TZOFFSETTO:+0200
TZNAME:CEST
DTSTART:20210328T010000
END:DAYLIGHT
BEGIN:STANDARD
TZOFFSETFROM:+0200
TZOFFSETTO:+0100
TZNAME:CET
DTSTART:20211031T010000
END:STANDARD
END:VTIMEZONE
BEGIN:VEVENT
DTSTART;TZID=Europe/Stockholm:20210413T133000
DTEND;TZID=Europe/Stockholm:20210413T143000
DTSTAMP:20260423T071052
CREATED:20210412T073726Z
LAST-MODIFIED:20210907T092855Z
UID:16791-1618320600-1618324200@www.luftenarfri.nu
SUMMARY:Rörelseträning på stol i Strängnäs
DESCRIPTION:Välkommen på rörelseträning för att stärka din kropp med enkla rörelse- och stretchövningar. Instruktören förklarar varför vi gör de olika övningarna och tipsar om vad du själv kan göra för att förbättra din hälsa. Passet avslutas med avslappning. Efteråt bjuder vi på kaffe/te.\nIngen deltagaravgift eller föranmälan.\nInstruktör: Ann-Margret ”Amo” Olofsdotter \nTisdagar kl 13.30 från och med den 6 april. \nPlats: Gården bakom ABF\, Källgatan 1\, Strängnäs \nFör info:\nAmo: amo_olofsdotter@hotmail.com eller 070-474 76 54\nGunilla: gunillabacklund1@bredband.net eller 070-517 85 99 \nCovid-19. Vi följer myndigheternas rekommendationer. Vid sjukdomssymptom ombedes du stanna hemma.
URL:https://www.luftenarfri.nu/evenemang/rorelsetraning-pa-stol-i-strangnas/2021-04-13/
LOCATION:ABF  Strängnäs\, Källgatan 1\, Strängnäs\, 64531
CATEGORIES:Vardagsnära
ATTACH;FMTTYPE=image/jpeg:https://www.luftenarfri.nu/wp-content/uploads/2021/04/Bild-rorelsetraning-vilsta.jpg
ORGANIZER;CN="Funktionsr%26auml%3Btt%20S%26ouml%3Brmland":MAILTO:resurs@funktionsrattsormland.se
GEO:59.3774065;17.0277349
X-APPLE-STRUCTURED-LOCATION;VALUE=URI;X-ADDRESS=ABF  Strängnäs Källgatan 1 Strängnäs 64531;X-APPLE-RADIUS=500;X-TITLE=Källgatan 1:geo:17.0277349,59.3774065
END:VEVENT
END:VCALENDAR