BEGIN:VCALENDAR
VERSION:2.0
PRODID:-//Luften är Fri - ECPv5.9.0//NONSGML v1.0//EN
CALSCALE:GREGORIAN
METHOD:PUBLISH
X-WR-CALNAME:Luften är Fri
X-ORIGINAL-URL:https://www.luftenarfri.nu
X-WR-CALDESC:Händelser för Luften är Fri
BEGIN:VTIMEZONE
TZID:Europe/Stockholm
BEGIN:DAYLIGHT
TZOFFSETFROM:+0100
TZOFFSETTO:+0200
TZNAME:CEST
DTSTART:20210328T010000
END:DAYLIGHT
BEGIN:STANDARD
TZOFFSETFROM:+0200
TZOFFSETTO:+0100
TZNAME:CET
DTSTART:20211031T010000
END:STANDARD
END:VTIMEZONE
BEGIN:VEVENT
DTSTART;TZID=Europe/Stockholm:20210412T133000
DTEND;TZID=Europe/Stockholm:20210412T143000
DTSTAMP:20260423T072940
CREATED:20210503T124214Z
LAST-MODIFIED:20211011T113449Z
UID:23750-1618234200-1618237800@www.luftenarfri.nu
SUMMARY:Rörelseträning på stol i Mariefred
DESCRIPTION:Välkommen på rörelseträning för att stärka din kropp med enkla rörelse- och stretchövningar. Instruktören förklarar varför vi gör de olika övningarna och tipsar om vad du själv kan göra för att förbättra din hälsa. Passet avslutas med avslappning. Efteråt bjuder vi på kaffe/te.\nIngen deltagaravgift eller föranmälan.\nInstruktör: Ann-Margret ”Amo” Olofsdotter \nMåndagar kl 13.30 till och med 13 december \nPlats: Vid Ångbåtsbryggan i Mariefred / Biohuset i Mariefred \nFör info:\nAmo: amo_olofsdotter@hotmail.com eller 070-474 76 54\nGunilla: gunillabacklund1@bredband.net eller 070-517 85 99 \nCovid-19. Vi följer myndigheternas rekommendationer. Vid sjukdomssymptom ombedes du stanna hemma.
URL:https://www.luftenarfri.nu/evenemang/rorelsetraning-pa-stol-i-mariefred-2/2021-04-12/
LOCATION:Ångbåtsbryggan Mariefred\, Mariefred\, 64730
CATEGORIES:Strandnära,Vardagsnära
ATTACH;FMTTYPE=image/jpeg:https://www.luftenarfri.nu/wp-content/uploads/2021/05/Bild-rorelsetraning-vilsta.jpg
ORGANIZER;CN="Funktionsr%26auml%3Btt%20S%26ouml%3Brmland":MAILTO:resurs@funktionsrattsormland.se
GEO:59.257895010035;17.2266307
END:VEVENT
END:VCALENDAR