BEGIN:VCALENDAR
VERSION:2.0
PRODID:-//Luften är Fri - ECPv5.9.0//NONSGML v1.0//EN
CALSCALE:GREGORIAN
METHOD:PUBLISH
X-WR-CALNAME:Luften är Fri
X-ORIGINAL-URL:https://www.luftenarfri.nu
X-WR-CALDESC:Händelser för Luften är Fri
BEGIN:VTIMEZONE
TZID:Europe/Stockholm
BEGIN:DAYLIGHT
TZOFFSETFROM:+0100
TZOFFSETTO:+0200
TZNAME:CEST
DTSTART:20210328T010000
END:DAYLIGHT
BEGIN:STANDARD
TZOFFSETFROM:+0200
TZOFFSETTO:+0100
TZNAME:CET
DTSTART:20211031T010000
END:STANDARD
END:VTIMEZONE
BEGIN:VEVENT
DTSTART;TZID=Europe/Stockholm:20210409T103000
DTEND;TZID=Europe/Stockholm:20210409T113000
DTSTAMP:20260423T072419
CREATED:20210412T072205Z
LAST-MODIFIED:20210907T080636Z
UID:16776-1617964200-1617967800@www.luftenarfri.nu
SUMMARY:Rörelseträning på stol i Eskilstuna
DESCRIPTION:Välkommen på rörelseträning för att stärka din kropp med enkla rörelse- och stretchövningar. Instruktören förklarar varför vi gör de olika övningarna och tipsar om vad du själv kan göra för att förbättra din hälsa. Passet avslutas med avslappning. Efteråt bjuder vi på kaffe/te. Ingen deltagaravgift eller föranmälan. Vid regn är vi inomhus.\nInstruktör: Liselott Karjel \nFredagar kl. 10.30 från och med den 9 april \nPlats: Utanför Vilsta sportcafé. \nFör info:\nLiselott: lotta.karjel@gmail.com\nGunilla: gunillabacklund1@bredband.se eller 070-517 85 99 \nCovid-19. Vi följer myndigheternas rekommendationer. Vid sjukdomssymptom ombedes du stanna hemma.
URL:https://www.luftenarfri.nu/evenemang/rorelsetraning-pa-stol-i-eskilstuna/2021-04-09/
LOCATION:Vilsta\, Vasavägen 80\, Eskilstuna\, 63358
CATEGORIES:Vardagsnära
ATTACH;FMTTYPE=image/jpeg:https://www.luftenarfri.nu/wp-content/uploads/2021/04/Bild-rorelsetraning-vilsta.jpg
ORGANIZER;CN="Funktionsr%26auml%3Btt%20S%26ouml%3Brmland":MAILTO:resurs@funktionsrattsormland.se
GEO:59.3516788;16.5097764
X-APPLE-STRUCTURED-LOCATION;VALUE=URI;X-ADDRESS=Vilsta Vasavägen 80 Eskilstuna 63358;X-APPLE-RADIUS=500;X-TITLE=Vasavägen 80:geo:16.5097764,59.3516788
END:VEVENT
END:VCALENDAR