BEGIN:VCALENDAR
VERSION:2.0
PRODID:-//Luften är Fri - ECPv5.9.0//NONSGML v1.0//EN
CALSCALE:GREGORIAN
METHOD:PUBLISH
X-WR-CALNAME:Luften är Fri
X-ORIGINAL-URL:https://www.luftenarfri.nu
X-WR-CALDESC:Händelser för Luften är Fri
BEGIN:VTIMEZONE
TZID:Europe/Stockholm
BEGIN:DAYLIGHT
TZOFFSETFROM:+0100
TZOFFSETTO:+0200
TZNAME:CEST
DTSTART:20210328T010000
END:DAYLIGHT
BEGIN:STANDARD
TZOFFSETFROM:+0200
TZOFFSETTO:+0100
TZNAME:CET
DTSTART:20211031T010000
END:STANDARD
END:VTIMEZONE
BEGIN:VEVENT
DTSTART;VALUE=DATE:20210312
DTEND;VALUE=DATE:20210313
DTSTAMP:20260422T202032
CREATED:20210308T094805Z
LAST-MODIFIED:20210312T091854Z
UID:10852-1615507200-1615593599@www.luftenarfri.nu
SUMMARY:Reflexäventyr på Vikskogen
DESCRIPTION:Vikskogen ägs av Skogsstyrelsen. Här finns en 2 km lång naturstig\, flera vindskydd och eldstäder och en liten hinderbana för barn. \nLagom till sportlovet finns en nytt nytt reflexäventyr att uppleva. Ät middag vid något av våra vindskydd och i skymningen eller i mörkret letar ni er tillbaka längs naturstigen till portalen med hjälp av reflexmarkeringarna på träden. Eller besök oss när det redan är mörkt och leta er upp på bergets topp och gå ner igen med hjälp av reflexerna. \nVikskogen har alltid öppet. \nVarmt välkomna!\nHälsningar\, Skogsstyrelsen Gävleborgs distrikt \nSkogsstyrelsen är en myndighet för frågor som rör skog. Vår uppgift är att verka för att skogen sköts så att de skogspolitiska mål som beslutats av riksdagen kan nås. Målen för produktion och miljöhänsyn är jämställda. Skogen ska brukas på ett hållbart sätt så att även framtida generationer kan ha nytta av den. Den lokala förankringen är viktig för oss. Vår vision är ”Skog till nytta för alla”.
URL:https://www.luftenarfri.nu/evenemang/reflexaventyr-pa-vikskogen/2021-03-12/
LOCATION:Vikskogen\, Bollnäs\, Våtlågsvägen\, Bollnäs\, 82134
CATEGORIES:Skogsnära,Vardagsnära
ORGANIZER;CN="Skogsstyrelsen%20G%26auml%3Bvleborg":MAILTO:kristina.thureson@skogsstyrelsen.se
GEO:61.3109105;16.38494
X-APPLE-STRUCTURED-LOCATION;VALUE=URI;X-ADDRESS=Vikskogen Bollnäs Våtlågsvägen Bollnäs 82134;X-APPLE-RADIUS=500;X-TITLE=Våtlågsvägen:geo:16.38494,61.3109105
END:VEVENT
END:VCALENDAR