BEGIN:VCALENDAR
VERSION:2.0
PRODID:-//Luften är Fri - ECPv5.9.0//NONSGML v1.0//EN
CALSCALE:GREGORIAN
METHOD:PUBLISH
X-WR-CALNAME:Luften är Fri
X-ORIGINAL-URL:https://www.luftenarfri.nu
X-WR-CALDESC:Händelser för Luften är Fri
BEGIN:VTIMEZONE
TZID:Europe/Stockholm
BEGIN:DAYLIGHT
TZOFFSETFROM:+0100
TZOFFSETTO:+0200
TZNAME:CEST
DTSTART:20210328T010000
END:DAYLIGHT
BEGIN:STANDARD
TZOFFSETFROM:+0200
TZOFFSETTO:+0100
TZNAME:CET
DTSTART:20211031T010000
END:STANDARD
END:VTIMEZONE
BEGIN:VEVENT
DTSTART;TZID=Europe/Stockholm:20210923T140000
DTEND;TZID=Europe/Stockholm:20210923T153000
DTSTAMP:20260423T053912
CREATED:20210916T081433Z
LAST-MODIFIED:20211011T125630Z
UID:32982-1632405600-1632411000@www.luftenarfri.nu
SUMMARY:Promenera på Hälsans stig i Eskilstuna
DESCRIPTION:Promenadgruppen fortsätter nu under hösten år 2021. Vi hälsar nya som gamla deltagare välkomna att  promenera tillsammans med volontärer från Frivilligcentralen Eskilstuna. \nTorsdagar kl. 14.00.    Vi ställer in vid regn! \nStart vid valvet vid sidan av Hotell Bolinder Munktell. \nHälsans stig är en promenadvänlig slinga i trevlig miljö. \nSlingan går huvudsakligen utmed ån i centrala Eskilstuna. \nDen är totalt 4 km lång men genom att gena över någon av broarna kan de som vill göra promenaden kortare. Tanken med Hälsans stig är att uppmuntra folk i alla åldrar till att motionera efter egen ork och förmåga. \nFör information: resurs@funktionsrattsormland.se  Tel: 016-13 87 90.\nfrivilligcentralen@fcetuna.se        Tel: 016-316 04 60. \nCovid-19. Vi följer myndigheternas rekommendationer. Vid sjukdomssymptom ombedes du stanna hemma.
URL:https://www.luftenarfri.nu/evenemang/promenera-pa-halsans-stig-i-eskilstuna-2/2021-09-23/
LOCATION:Hotell Bolinder Munktell\, Portgatan 3\, Eskilstuna\, 63343\, Sverige
CATEGORIES:Vardagsnära
ATTACH;FMTTYPE=image/png:https://www.luftenarfri.nu/wp-content/uploads/2021/09/Halsans-stig.png
ORGANIZER;CN="Funktionsr%26auml%3Btt%20S%26ouml%3Brmland":MAILTO:resurs@funktionsrattsormland.se
GEO:59.3768139;16.5103199
X-APPLE-STRUCTURED-LOCATION;VALUE=URI;X-ADDRESS=Hotell Bolinder Munktell Portgatan 3 Eskilstuna 63343 Sverige;X-APPLE-RADIUS=500;X-TITLE=Portgatan 3:geo:16.5103199,59.3768139
END:VEVENT
END:VCALENDAR