BEGIN:VCALENDAR
VERSION:2.0
PRODID:-//Luften är Fri - ECPv5.9.0//NONSGML v1.0//EN
CALSCALE:GREGORIAN
METHOD:PUBLISH
X-WR-CALNAME:Luften är Fri
X-ORIGINAL-URL:https://www.luftenarfri.nu
X-WR-CALDESC:Händelser för Luften är Fri
BEGIN:VTIMEZONE
TZID:Europe/Stockholm
BEGIN:DAYLIGHT
TZOFFSETFROM:+0100
TZOFFSETTO:+0200
TZNAME:CEST
DTSTART:20210328T010000
END:DAYLIGHT
BEGIN:STANDARD
TZOFFSETFROM:+0200
TZOFFSETTO:+0100
TZNAME:CET
DTSTART:20211031T010000
END:STANDARD
END:VTIMEZONE
BEGIN:VEVENT
DTSTART;VALUE=DATE:20210122
DTEND;VALUE=DATE:20210123
DTSTAMP:20260422T202602
CREATED:20210121T134835Z
LAST-MODIFIED:20210223T202340Z
UID:2735-1611273600-1611359999@www.luftenarfri.nu
SUMMARY:Pop up! Reflexbana i Lina naturreservat (med pannlampa)
DESCRIPTION:Det är mörkt om vintern\, men i Lina naturreservat kan du gå vår pop-up bana med pannlampa och följa reflexerna! Lär dig mer om hur djur anpassar sig på vintern och hur du kan känna igen några av de vanligaste på deras spår i snön\, eller leran… \nBanan är ca 700m lång och går i kuperad hagmark och hasselskog. Starten hittar du vid huvudparkeringen i Lina naturreservat\, ca 10 min norr om Södertälje C. Ta med egen pannlampa. \nReflexbanan kommer att sitta uppe till slutet av februari.
URL:https://www.luftenarfri.nu/evenemang/pop-up-reflexbana-i-lina-naturreservat/2021-01-22/
LOCATION:Lina naturreservat\, Södertälje\, Linavägen 50 (infarten söder om Trädgården)\, Södertälje\, 15157\, Sverige
CATEGORIES:Skogsnära,Vardagsnära
ATTACH;FMTTYPE=image/jpeg:https://www.luftenarfri.nu/wp-content/uploads/2021/01/Pop-up-1-1.jpg
ORGANIZER;CN="S%26ouml%3Bdert%26auml%3Blje%20kommun":MAILTO:laura.inkapool@sodertalje.se
GEO:59.2203188;17.5773762
X-APPLE-STRUCTURED-LOCATION;VALUE=URI;X-ADDRESS=Lina naturreservat Södertälje Linavägen 50 (infarten söder om Trädgården) Södertälje 15157 Sverige;X-APPLE-RADIUS=500;X-TITLE=Linavägen 50 (infarten söder om Trädgården):geo:17.5773762,59.2203188
END:VEVENT
END:VCALENDAR