BEGIN:VCALENDAR
VERSION:2.0
PRODID:-//Luften är Fri - ECPv5.9.0//NONSGML v1.0//EN
CALSCALE:GREGORIAN
METHOD:PUBLISH
X-WR-CALNAME:Luften är Fri
X-ORIGINAL-URL:https://www.luftenarfri.nu
X-WR-CALDESC:Händelser för Luften är Fri
BEGIN:VTIMEZONE
TZID:Europe/Stockholm
BEGIN:DAYLIGHT
TZOFFSETFROM:+0100
TZOFFSETTO:+0200
TZNAME:CEST
DTSTART:20210328T010000
END:DAYLIGHT
BEGIN:STANDARD
TZOFFSETFROM:+0200
TZOFFSETTO:+0100
TZNAME:CET
DTSTART:20211031T010000
END:STANDARD
END:VTIMEZONE
BEGIN:VEVENT
DTSTART;VALUE=DATE:20210401
DTEND;VALUE=DATE:20210402
DTSTAMP:20260422T203151
CREATED:20210407T074841Z
LAST-MODIFIED:20210407T075633Z
UID:15218-1617235200-1617321599@www.luftenarfri.nu
SUMMARY:POP UP aktivitet: Spana flyttfåglar vid Lersjön (Lina naturreservat)
DESCRIPTION:Våren är här! Det vet också flyttfåglarna som nu kommer hem från sina vintervistelser på varmare breddgrader i södra Europa eller Afrika. Vid Lersjön i Lina naturreservat finns en fågelsjö och ett fågeltorn som du kan spana flyttfåglar ifrån. Vid fågeltornet startar också vår tredje POP-UP stig\, en ca 2km lång promenad kring sjön i delvis kuperad terräng. Under promenaden kan lära dig lite mer om Lina naturreservat och om några av de flyttfåglar som kommer tillbaka nu under våren. \nPå skyltarna finns också QR-koder som du kan scanna med din mobilkamera för att lyssna på fåglarna. För att det ska fungera måste du ha en smartphone med tillgång till internet. \nRastplatser: Det står ett fikabord under fågeltornet och på två platser i närheten av sjön finns det grillplatser. \nHitta hit: Stigen startar vid fågeltornet\, ca 600m från huvudparkeringen i Lina naturreservat (skyltning finns). Huvudparkeringen ligger längs Linavägen\, i närheten av ”Trädgårn Södertälje”. \nMed buss stiger du av 787an vid station Linavägen och följer Linavägen ca 400m\, förbi trädgårn\, till huvudparkeringen som ligger på vänster sida.
URL:https://www.luftenarfri.nu/evenemang/pop-up-aktivitet-spana-flyttfaglar-vid-lersjon-lina-naturreservat/2021-04-01/
LOCATION:Lina naturreservat\, Södertälje\, Linavägen 50 (infarten söder om Trädgården)\, Södertälje\, 15157\, Sverige
CATEGORIES:Skogsnära,Vardagsnära
ATTACH;FMTTYPE=image/jpeg:https://www.luftenarfri.nu/wp-content/uploads/2021/04/Knipa-hane-flyger-vingar-ner.Lina-NR-Linasjon.19-04-15.Mikael-Linden-scaled.jpg
ORGANIZER;CN="S%26ouml%3Bdert%26auml%3Blje%20kommun":MAILTO:laura.inkapool@sodertalje.se
GEO:59.2203188;17.5773762
X-APPLE-STRUCTURED-LOCATION;VALUE=URI;X-ADDRESS=Lina naturreservat Södertälje Linavägen 50 (infarten söder om Trädgården) Södertälje 15157 Sverige;X-APPLE-RADIUS=500;X-TITLE=Linavägen 50 (infarten söder om Trädgården):geo:17.5773762,59.2203188
END:VEVENT
END:VCALENDAR