BEGIN:VCALENDAR
VERSION:2.0
PRODID:-//Luften är Fri - ECPv5.9.0//NONSGML v1.0//EN
CALSCALE:GREGORIAN
METHOD:PUBLISH
X-WR-CALNAME:Luften är Fri
X-ORIGINAL-URL:https://www.luftenarfri.nu
X-WR-CALDESC:Händelser för Luften är Fri
BEGIN:VTIMEZONE
TZID:Europe/Stockholm
BEGIN:DAYLIGHT
TZOFFSETFROM:+0100
TZOFFSETTO:+0200
TZNAME:CEST
DTSTART:20210328T010000
END:DAYLIGHT
BEGIN:STANDARD
TZOFFSETFROM:+0200
TZOFFSETTO:+0100
TZNAME:CET
DTSTART:20211031T010000
END:STANDARD
END:VTIMEZONE
BEGIN:VEVENT
DTSTART;TZID=Europe/Stockholm:20210329T130000
DTEND;TZID=Europe/Stockholm:20210329T160000
DTSTAMP:20260423T021151
CREATED:20210407T074346Z
LAST-MODIFIED:20210407T074346Z
UID:15205-1617022800-1617033600@www.luftenarfri.nu
SUMMARY:Påsklovsaktiviteter vid Araby Park Arena
DESCRIPTION:Friluftsaktiviteter för barn upp till 12 år. Vi övar på att göra eld med eldstål\, lär oss koka vatten på stormkök och göra varm Oboj som vi bjuder på. Dessutom har vi en slackline som man övar balans och rörelse på. Andra dagen den 30 mars gör vi Krabbelurer. Allt är gratis.
URL:https://www.luftenarfri.nu/evenemang/pasklovsaktiviteter-vid-araby-park-arena/2021-03-29/
LOCATION:Araby Park Arena\, Växjö\, Sverige
GEO:56.8790044;14.8058523
END:VEVENT
END:VCALENDAR