BEGIN:VCALENDAR
VERSION:2.0
PRODID:-//Luften är Fri - ECPv5.9.0//NONSGML v1.0//EN
CALSCALE:GREGORIAN
METHOD:PUBLISH
X-WR-CALNAME:Luften är Fri
X-ORIGINAL-URL:https://www.luftenarfri.nu
X-WR-CALDESC:Händelser för Luften är Fri
BEGIN:VTIMEZONE
TZID:Europe/Stockholm
BEGIN:DAYLIGHT
TZOFFSETFROM:+0100
TZOFFSETTO:+0200
TZNAME:CEST
DTSTART:20210328T010000
END:DAYLIGHT
BEGIN:STANDARD
TZOFFSETFROM:+0200
TZOFFSETTO:+0100
TZNAME:CET
DTSTART:20211031T010000
END:STANDARD
END:VTIMEZONE
BEGIN:VEVENT
DTSTART;TZID=Europe/Stockholm:20210616T160000
DTEND;TZID=Europe/Stockholm:20210616T180000
DTSTAMP:20260423T050005
CREATED:20210628T082327Z
LAST-MODIFIED:20210628T082327Z
UID:30496-1623859200-1623866400@www.luftenarfri.nu
SUMMARY:Paddling med Kisa Fritidsgård
DESCRIPTION:Fritidsgården i Kisa bjuder in till paddling tillsammans med Kisa Scoutkår som en del av sitt öppna sommarprogram.
URL:https://www.luftenarfri.nu/evenemang/paddling-med-kisa-fritidsgard/2021-06-16/
LOCATION:Kvarteret Vråken\, Storgatan 10\, Kisa\, 59040\, Sverige
CATEGORIES:Strandnära,Vardagsnära
ATTACH;FMTTYPE=image/png:https://www.luftenarfri.nu/wp-content/uploads/2021/06/Skärmavbild-2021-06-26-kl.-11.12.58.png
ORGANIZER;CN="Kisa%20Scoutk%26aring%3Br":MAILTO:info@kisascout.se
GEO:57.9873845;15.6346285
X-APPLE-STRUCTURED-LOCATION;VALUE=URI;X-ADDRESS=Kvarteret Vråken Storgatan 10 Kisa 59040 Sverige;X-APPLE-RADIUS=500;X-TITLE=Storgatan 10:geo:15.6346285,57.9873845
END:VEVENT
END:VCALENDAR