BEGIN:VCALENDAR
VERSION:2.0
PRODID:-//Luften är Fri - ECPv5.9.0//NONSGML v1.0//EN
CALSCALE:GREGORIAN
METHOD:PUBLISH
X-WR-CALNAME:Luften är Fri
X-ORIGINAL-URL:https://www.luftenarfri.nu
X-WR-CALDESC:Händelser för Luften är Fri
BEGIN:VTIMEZONE
TZID:Europe/Stockholm
BEGIN:DAYLIGHT
TZOFFSETFROM:+0100
TZOFFSETTO:+0200
TZNAME:CEST
DTSTART:20210328T010000
END:DAYLIGHT
BEGIN:STANDARD
TZOFFSETFROM:+0200
TZOFFSETTO:+0100
TZNAME:CET
DTSTART:20211031T010000
END:STANDARD
END:VTIMEZONE
BEGIN:VEVENT
DTSTART;TZID=Europe/Stockholm:20210110T180000
DTEND;TZID=Europe/Stockholm:20210110T210000
DTSTAMP:20260422T190211
CREATED:20201216T095414Z
LAST-MODIFIED:20210112T093515Z
UID:858-1610301600-1610312400@www.luftenarfri.nu
SUMMARY:Lyktvandring
DESCRIPTION:Det är en sällsam och väldigt rogivande känsla att uppleva ett naturligt mörker. Tillsammans med vars en lykta vandrar vi sakta och tar in både mörket och skogen med alla våra sinnen. Det kallas för ”skogsbad”\, vilket betyder att vi badar våra sinnen. Vi avslutar med gemensam fika runt en öppen eld. Klä dig varmt eftersom vi kommer att gå sakta. Så ta överdragsbyxor\, underställ\, varma strumpor och en extra tröja på dig. Ta varma skor som är bra att gå i. Regnar det så ta regnkläder eller paraply. Evenemanget ställs in vid riktigt dåligt väder. \nTa med dig: \n• Något att sitta på. Det går bra att stoppa en dagstidning i en platspåse. \n• En extra varm tröja. \n• En egen mugg/kopp.
URL:https://www.luftenarfri.nu/evenemang/lyktvandring/2021-01-10/
LOCATION:Måryds Naturreservat\, Lund\, Södra Sandby\, 247 91\, Sverige
CATEGORIES:Skogsnära
ATTACH;FMTTYPE=image/jpeg:https://www.luftenarfri.nu/wp-content/uploads/2020/12/Lykta-rotated.jpg
ORGANIZER;CN="Urban%20Balance%20club":MAILTO:hej@urbanbalanceclub.se
GEO:55.7168577;13.3472311
END:VEVENT
END:VCALENDAR