BEGIN:VCALENDAR
VERSION:2.0
PRODID:-//Luften är Fri - ECPv5.9.0//NONSGML v1.0//EN
CALSCALE:GREGORIAN
METHOD:PUBLISH
X-WR-CALNAME:Luften är Fri
X-ORIGINAL-URL:https://www.luftenarfri.nu
X-WR-CALDESC:Händelser för Luften är Fri
BEGIN:VTIMEZONE
TZID:Europe/Stockholm
BEGIN:DAYLIGHT
TZOFFSETFROM:+0100
TZOFFSETTO:+0200
TZNAME:CEST
DTSTART:20210328T010000
END:DAYLIGHT
BEGIN:STANDARD
TZOFFSETFROM:+0200
TZOFFSETTO:+0100
TZNAME:CET
DTSTART:20211031T010000
END:STANDARD
END:VTIMEZONE
BEGIN:VEVENT
DTSTART;VALUE=DATE:20210301
DTEND;VALUE=DATE:20210302
DTSTAMP:20260422T202030
CREATED:20210301T074051Z
LAST-MODIFIED:20210301T144145Z
UID:8684-1614556800-1614643199@www.luftenarfri.nu
SUMMARY:Lilla fågelrundan
DESCRIPTION:Känner du igen fåglarna som finns i Mariebergsskogen?\nLär dig mer och testa dina kunskaper i en quiz om Mariebergsskogens vilda fåglar. En nyhet för hela familjen!\n\n\n\n\nSurfa till play.gpsquiz.com med din smarta telefon när du är utanför Naturum Värmland. Det är gratis och du kan spela alla dagar under parkens öppettider. Lycka till!
URL:https://www.luftenarfri.nu/evenemang/lilla-fagelrundan/2021-03-01/
LOCATION:Naturum Värmland\, Mariebergsskogen AB\, Karlstad\, Värmland\, 65184\, Sverige
CATEGORIES:Skogsnära,Vardagsnära
ATTACH;FMTTYPE=image/jpeg:https://www.luftenarfri.nu/wp-content/uploads/2021/02/blue-tit-2401559-2-scaled.jpg
ORGANIZER;CN="Naturum%20V%26auml%3Brmland":MAILTO:naturumvarmland@karlstad.se
GEO:59.3699191;13.4870507
X-APPLE-STRUCTURED-LOCATION;VALUE=URI;X-ADDRESS=Naturum Värmland Mariebergsskogen AB Karlstad Värmland 65184 Sverige;X-APPLE-RADIUS=500;X-TITLE=Mariebergsskogen AB:geo:13.4870507,59.3699191
END:VEVENT
END:VCALENDAR