BEGIN:VCALENDAR
VERSION:2.0
PRODID:-//Luften är Fri - ECPv5.9.0//NONSGML v1.0//EN
CALSCALE:GREGORIAN
METHOD:PUBLISH
X-WR-CALNAME:Luften är Fri
X-ORIGINAL-URL:https://www.luftenarfri.nu
X-WR-CALDESC:Händelser för Luften är Fri
BEGIN:VTIMEZONE
TZID:Europe/Stockholm
BEGIN:DAYLIGHT
TZOFFSETFROM:+0100
TZOFFSETTO:+0200
TZNAME:CEST
DTSTART:20210328T010000
END:DAYLIGHT
BEGIN:STANDARD
TZOFFSETFROM:+0200
TZOFFSETTO:+0100
TZNAME:CET
DTSTART:20211031T010000
END:STANDARD
END:VTIMEZONE
BEGIN:VEVENT
DTSTART;TZID=Europe/Stockholm:20210908T180000
DTEND;TZID=Europe/Stockholm:20210908T200000
DTSTAMP:20260423T004618
CREATED:20210719T072430Z
LAST-MODIFIED:20210719T072430Z
UID:31566-1631124000-1631131200@www.luftenarfri.nu
SUMMARY:Kurs: Guida i naturen nära dig\, Borlänge
DESCRIPTION:Välkommen till en volontärutbildning inom Friluftslivets år 2021 \nAlla intresserade är välkomna till kursen! Deltagarantalet är begränsat\, vi är utomhus och FHM:s rekommendationer gäller. Kursen är gratis\, men vi förväntar oss att ni efter genomgången kurs tar med en ovan Friluftskompis ut i naturen. \nMålet med Friluftskompis Dalarna är att få med så många natur-ovana som möjligt ut i dalanaturen. Vi vill därför erbjuda er som har viss naturvana att gå en kort kurs i hur man på olika\, enkla\, sätt delar med sig av naturkänslan och naturkunskaper. Vi vet att många vandrar i skog och mark\, fiskar\, tittar på fåglar\, plockar bär och svamp eller njuter i parker och trädgårdar. Allt det räknas som friluftsliv\, gå kursen och ta sen med en kompis ut! \nAnmäl via länken här senast 20 augusti\, eller kontakta kursledare Gittan \nVälkomna! \nKontakt: gittan.matsson@gmail.com 0723 41 80 62\nLäs mer på https://dalarna.naturskyddsforeningen.se/friluftskompis/ och FB Friluftskompis Dalarna
URL:https://www.luftenarfri.nu/evenemang/kurs-guida-i-naturen-nara-dig-borlange/2021-09-08/
LOCATION:Sjöberget Borlänge\, Sjöberegt 1\, Borlänge\, 784 68\, Sverige
CATEGORIES:Skogsnära
ORGANIZER;CN="Naturskyddsf%26ouml%3Breningen%20Dalarna":MAILTO:gittan.matsson@gmail.com
GEO:60.5287879;15.4054927
X-APPLE-STRUCTURED-LOCATION;VALUE=URI;X-ADDRESS=Sjöberget Borlänge Sjöberegt 1 Borlänge 784 68 Sverige;X-APPLE-RADIUS=500;X-TITLE=Sjöberegt 1:geo:15.4054927,60.5287879
END:VEVENT
END:VCALENDAR