BEGIN:VCALENDAR
VERSION:2.0
PRODID:-//Luften är Fri - ECPv5.9.0//NONSGML v1.0//EN
CALSCALE:GREGORIAN
METHOD:PUBLISH
X-WR-CALNAME:Luften är Fri
X-ORIGINAL-URL:https://www.luftenarfri.nu
X-WR-CALDESC:Händelser för Luften är Fri
BEGIN:VTIMEZONE
TZID:Europe/Stockholm
BEGIN:DAYLIGHT
TZOFFSETFROM:+0100
TZOFFSETTO:+0200
TZNAME:CEST
DTSTART:20210328T010000
END:DAYLIGHT
BEGIN:STANDARD
TZOFFSETFROM:+0200
TZOFFSETTO:+0100
TZNAME:CET
DTSTART:20211031T010000
END:STANDARD
END:VTIMEZONE
BEGIN:VEVENT
DTSTART;TZID=Europe/Stockholm:20210507T150000
DTEND;TZID=Europe/Stockholm:20210507T180000
DTSTAMP:20260423T062859
CREATED:20211014T074156Z
LAST-MODIFIED:20211014T074156Z
UID:33553-1620399600-1620410400@www.luftenarfri.nu
SUMMARY:Inför Blue Bua
DESCRIPTION:Bua Ungdomsgård kommer till sommaren att arrangera friluftsaktiviteter med sina erfarna ungdomscoacher på Krokstad Badplats i Bua varje veckodag (måndag-fredag) förutsatt att vädret tillåter. Inför detta arrangerar vi 2 träffar för er som går på Väröbackaskolan så ni kan komma och träffa oss och bli inspirerade inför sommaren. \nMålgruppen är ALLA ungdomar i åldrarna 11-18 år\, och allting är gratis. Även föräldrar är välkomna i sällskap med sina ungdomar. \nFölj oss på Instagram för mer information och aktuella uppdateringar @bu_buagarden. Välkomna!
URL:https://www.luftenarfri.nu/evenemang/infor-blue-bua/2021-05-07/
LOCATION:Krokstad Badplats\, Bua\, Krokstad Badplats\, Bua\, Varberg\, Sverige
CATEGORIES:Strandnära,Vardagsnära
ORGANIZER;CN="Bua%20Ungdomsg%26aring%3Brd":MAILTO:rafael.zurbano@varberg.se
GEO:57.2368326;12.1221463
X-APPLE-STRUCTURED-LOCATION;VALUE=URI;X-ADDRESS=Krokstad Badplats Bua Krokstad Badplats Bua Varberg Sverige;X-APPLE-RADIUS=500;X-TITLE=Krokstad Badplats\, Bua:geo:12.1221463,57.2368326
END:VEVENT
END:VCALENDAR