BEGIN:VCALENDAR
VERSION:2.0
PRODID:-//Luften är Fri - ECPv5.9.0//NONSGML v1.0//EN
CALSCALE:GREGORIAN
METHOD:PUBLISH
X-WR-CALNAME:Luften är Fri
X-ORIGINAL-URL:https://www.luftenarfri.nu
X-WR-CALDESC:Händelser för Luften är Fri
BEGIN:VTIMEZONE
TZID:Europe/Stockholm
BEGIN:DAYLIGHT
TZOFFSETFROM:+0100
TZOFFSETTO:+0200
TZNAME:CEST
DTSTART:20210328T010000
END:DAYLIGHT
BEGIN:STANDARD
TZOFFSETFROM:+0200
TZOFFSETTO:+0100
TZNAME:CET
DTSTART:20211031T010000
END:STANDARD
END:VTIMEZONE
BEGIN:VEVENT
DTSTART;TZID=Europe/Stockholm:20210904T110000
DTEND;TZID=Europe/Stockholm:20210904T123000
DTSTAMP:20260423T080713
CREATED:20210328T175800Z
LAST-MODIFIED:20210328T175800Z
UID:15034-1630753200-1630758600@www.luftenarfri.nu
SUMMARY:Industriarvsrundan i Borkhult
DESCRIPTION:Industriarvsrundan äger i år rum i Borkhult. Dramatiserad vandring om livet runt industrierna i Borkhult. Om hur det var både till vardag och fest.\nSamling vid Fabrikens kontor i Borkhult. \nKontaktperson: Elisabet Magnusson 072-3615052 \n100 kr per person. Barn under 12 år gratis. \nFika att köpa finns i området. \nGanska lätt promenad på asfalt och grus. \nVi följer myndigheternas rekommendationer.
URL:https://www.luftenarfri.nu/evenemang/industriarvsrundan-i-borkhult/2021-09-04/
LOCATION:Borkhults industriminnen\, 58.278109\, 16.180535\, Åtvidaberg
CATEGORIES:Skogsnära
ORGANIZER;CN="Borkhults%20kultur-%20och%20naturf%C3%B6rening":MAILTO:kultur@borkhult.se
GEO:58.2781961;16.1821281
X-APPLE-STRUCTURED-LOCATION;VALUE=URI;X-ADDRESS=Borkhults industriminnen 58.278109 16.180535 Åtvidaberg;X-APPLE-RADIUS=500;X-TITLE=58.278109\, 16.180535:geo:16.1821281,58.2781961
END:VEVENT
END:VCALENDAR