BEGIN:VCALENDAR
VERSION:2.0
PRODID:-//Luften är Fri - ECPv5.9.0//NONSGML v1.0//EN
CALSCALE:GREGORIAN
METHOD:PUBLISH
X-WR-CALNAME:Luften är Fri
X-ORIGINAL-URL:https://www.luftenarfri.nu
X-WR-CALDESC:Händelser för Luften är Fri
BEGIN:VTIMEZONE
TZID:Europe/Stockholm
BEGIN:DAYLIGHT
TZOFFSETFROM:+0100
TZOFFSETTO:+0200
TZNAME:CEST
DTSTART:20210328T010000
END:DAYLIGHT
BEGIN:STANDARD
TZOFFSETFROM:+0200
TZOFFSETTO:+0100
TZNAME:CET
DTSTART:20211031T010000
END:STANDARD
END:VTIMEZONE
BEGIN:VEVENT
DTSTART;TZID=Europe/Stockholm:20210911T100000
DTEND;TZID=Europe/Stockholm:20210911T170000
DTSTAMP:20260423T023322
CREATED:20210908T115533Z
LAST-MODIFIED:20210908T115621Z
UID:32795-1631354400-1631379600@www.luftenarfri.nu
SUMMARY:Höstaktiviteter varje helg på naturum Höga kusten
DESCRIPTION:Varje helg finns olika aktiviteter att göra på naturum\, både inomhus och utomhus! Aktiviteter finns både för barn och vuxna. Välkomna!
URL:https://www.luftenarfri.nu/evenemang/hostaktiviteter-pa-naturum-varje-helg/2021-09-11/
LOCATION:naturum Höga Kusten\, SKULEBERGET 101\, Docksta\, Ångermanland\, 87033\, Sverige
CATEGORIES:Vardagsnära
ATTACH;FMTTYPE=image/jpeg:https://www.luftenarfri.nu/wp-content/uploads/2021/09/naturvagledning-barn.jpg
ORGANIZER;CN="naturum%20H%26ouml%3Bga%20Kusten":MAILTO:info@naturumhogakusten.se
GEO:63.073332858262;18.355885147763
X-APPLE-STRUCTURED-LOCATION;VALUE=URI;X-ADDRESS=naturum Höga Kusten SKULEBERGET 101 Docksta Ångermanland 87033 Sverige;X-APPLE-RADIUS=500;X-TITLE=SKULEBERGET 101:geo:18.355885147763,63.073332858262
END:VEVENT
END:VCALENDAR