BEGIN:VCALENDAR
VERSION:2.0
PRODID:-//Luften är Fri - ECPv5.9.0//NONSGML v1.0//EN
CALSCALE:GREGORIAN
METHOD:PUBLISH
X-WR-CALNAME:Luften är Fri
X-ORIGINAL-URL:https://www.luftenarfri.nu
X-WR-CALDESC:Händelser för Luften är Fri
BEGIN:VTIMEZONE
TZID:Europe/Stockholm
BEGIN:DAYLIGHT
TZOFFSETFROM:+0100
TZOFFSETTO:+0200
TZNAME:CEST
DTSTART:20210328T010000
END:DAYLIGHT
BEGIN:STANDARD
TZOFFSETFROM:+0200
TZOFFSETTO:+0100
TZNAME:CET
DTSTART:20211031T010000
END:STANDARD
END:VTIMEZONE
BEGIN:VEVENT
DTSTART;TZID=Europe/Stockholm:20210622T193000
DTEND;TZID=Europe/Stockholm:20210622T210000
DTSTAMP:20260423T054035
CREATED:20201214T143004Z
LAST-MODIFIED:20210617T081721Z
UID:741-1624390200-1624395600@www.luftenarfri.nu
SUMMARY:Guidad vandring från Blodmyra vid Norra Dellen
DESCRIPTION:Följ med på en historisk guidad tur i omgivningarna kring Blodmyra till fots. \nSamling: Norra Dellen Familjecamping\, vid Blodmyra. \nLär dig mer om naturen och kulturen i området\, t.ex. om meteoritnedslaget och Dellensjöarnas uppkomst\, Norrbo Skans och andra intressanta händelser och människor som har levt och verkat här. \nVandringen är ca 2-2\,5 km på lättgångna stigar och turen tar ca 1\,5 timme inkl. guidning. \nIngen utrustning behövs men ta gärna ett par sköna skor och kläder efter väder. \nAktiviteten passar även ovana friluftsutövare. \nMax 10 personer för ökad säkerhet att kunna hålla avstånd och därmed minska smittspridning.
URL:https://www.luftenarfri.nu/evenemang/guidad-vandring-fran-blodmyra-vid-norra-dellen/2021-06-22/
LOCATION:Blodmyra\, Norra Dellen\, Rävnäset 101\, Bjuråker\, Hälsingland i Gävleborgs län\, 824 78\, Sverige
CATEGORIES:Skogsnära,Strandnära
ATTACH;FMTTYPE=image/jpeg:https://www.luftenarfri.nu/wp-content/uploads/2020/12/Norrbo-skans_liten.jpg
ORGANIZER;CN="Lin%20%26amp%3B%20Lo%20Turismutveckling":MAILTO:catherine@linolo.se
GEO:61.8581771;16.6079195
X-APPLE-STRUCTURED-LOCATION;VALUE=URI;X-ADDRESS=Blodmyra Norra Dellen Rävnäset 101 Bjuråker Hälsingland i Gävleborgs län 824 78 Sverige;X-APPLE-RADIUS=500;X-TITLE=Rävnäset 101:geo:16.6079195,61.8581771
END:VEVENT
END:VCALENDAR