BEGIN:VCALENDAR
VERSION:2.0
PRODID:-//Luften är Fri - ECPv5.9.0//NONSGML v1.0//EN
CALSCALE:GREGORIAN
METHOD:PUBLISH
X-WR-CALNAME:Luften är Fri
X-ORIGINAL-URL:https://www.luftenarfri.nu
X-WR-CALDESC:Händelser för Luften är Fri
BEGIN:VTIMEZONE
TZID:Europe/Stockholm
BEGIN:DAYLIGHT
TZOFFSETFROM:+0100
TZOFFSETTO:+0200
TZNAME:CEST
DTSTART:20200329T010000
END:DAYLIGHT
BEGIN:STANDARD
TZOFFSETFROM:+0200
TZOFFSETTO:+0100
TZNAME:CET
DTSTART:20201025T010000
END:STANDARD
END:VTIMEZONE
BEGIN:VEVENT
DTSTART;TZID=Europe/Stockholm:20201229T130000
DTEND;TZID=Europe/Stockholm:20201229T150000
DTSTAMP:20260422T185612
CREATED:20201214T142727Z
LAST-MODIFIED:20201214T142727Z
UID:811-1609246800-1609254000@www.luftenarfri.nu
SUMMARY:Guidad Familjespårtur
DESCRIPTION:Vem har gjort spår i snön?\nVad gör alla djuren på vintern?\nOch vilka spår lämnar vi själva efter oss?\nAllt som händer lämnar spår\, och av spåren\nkan man läsa naturen nästan som en bok! \nVi skidar ut och ser vilka spår vi hittar just i dag.\nKanske inte bara efter klövar och tassar\,\nmed skarpa ögon kan du upptäcka mycket mer. \nSamling vid naturum kl 13.00\, åter cirka kl 15.00\nInformation och anmälan på tel 010-225 3226\nMax 6 deltagare enligt rådande restriktioner
URL:https://www.luftenarfri.nu/evenemang/guidad-familjespartur/2020-12-29/
LOCATION:Naturum Vålådalen\, Vålådalen\, Vålådalen\, Jämtland\, 83775\, Sverige
CATEGORIES:Fjällnära
ATTACH;FMTTYPE=image/jpeg:https://www.luftenarfri.nu/wp-content/uploads/2020/12/harspar-2-scaled.jpg
ORGANIZER;CN="Naturum%20V%26aring%3Bl%26aring%3Bdalen":MAILTO:naturum.jamtland@lansstyrelsen.se
GEO:63.15145;12.97103
X-APPLE-STRUCTURED-LOCATION;VALUE=URI;X-ADDRESS=Naturum Vålådalen Vålådalen Vålådalen Jämtland 83775 Sverige;X-APPLE-RADIUS=500;X-TITLE=Vålådalen:geo:12.97103,63.15145
END:VEVENT
END:VCALENDAR