BEGIN:VCALENDAR
VERSION:2.0
PRODID:-//Luften är Fri - ECPv5.9.0//NONSGML v1.0//EN
CALSCALE:GREGORIAN
METHOD:PUBLISH
X-WR-CALNAME:Luften är Fri
X-ORIGINAL-URL:https://www.luftenarfri.nu
X-WR-CALDESC:Händelser för Luften är Fri
BEGIN:VTIMEZONE
TZID:Europe/Stockholm
BEGIN:DAYLIGHT
TZOFFSETFROM:+0100
TZOFFSETTO:+0200
TZNAME:CEST
DTSTART:20210328T010000
END:DAYLIGHT
BEGIN:STANDARD
TZOFFSETFROM:+0200
TZOFFSETTO:+0100
TZNAME:CET
DTSTART:20211031T010000
END:STANDARD
END:VTIMEZONE
BEGIN:VEVENT
DTSTART;VALUE=DATE:20210217
DTEND;VALUE=DATE:20210218
DTSTAMP:20260422T185536
CREATED:20210217T102512Z
LAST-MODIFIED:20210217T102512Z
UID:7848-1613520000-1613606399@www.luftenarfri.nu
SUMMARY:GPS-quiz
DESCRIPTION:Gå en kort promenad och gör vårt GPS-quiz på Granön\, Gysinge!\nDu hittar frågorna med hjälp av kartan i mobilen. Ingen app behövs.\n– Se till att mobilen har platsåtkomst påslagen.\n– Gå in på hemsidan play.gpsquiz.com med webbläsaren i din mobil.\n– Byt ev webbläsare\, om du får den uppmaningen.\n– Välj: Granön vinter 2021 (du måste vara nära Gysingeforsarna för att den ska komma upp på skärmen)\n– Hitta på och skriv in ett lagnamn och skriv hur många ni är i laget\, t ex: Bälingekidsen 3 pers\nDen gula markeringen är din egen position. Leta dig fram till första frågan. När du är på plats visas frågan på skärmen i din mobil. Välj ett svarsalternativ. Gå vidare till nästa fråga.\nSkicka in dina svar då du är färdig.
URL:https://www.luftenarfri.nu/evenemang/gps-quiz/2021-02-17/
LOCATION:naturum Färnebofjärden\, Benedicks väg 3\, Gysinge\, 81197\, Sverige
CATEGORIES:Skogsnära
ATTACH;FMTTYPE=image/jpeg:https://www.luftenarfri.nu/wp-content/uploads/2021/02/granon.jpg
ORGANIZER;CN="naturum%20F%26auml%3Brnebofj%26auml%3Brden":MAILTO:farnebofjarden@lansstyrelsen.se
GEO:60.2868362;16.8816445
X-APPLE-STRUCTURED-LOCATION;VALUE=URI;X-ADDRESS=naturum Färnebofjärden Benedicks väg 3 Gysinge 81197 Sverige;X-APPLE-RADIUS=500;X-TITLE=Benedicks väg 3:geo:16.8816445,60.2868362
END:VEVENT
END:VCALENDAR