BEGIN:VCALENDAR
VERSION:2.0
PRODID:-//Luften är Fri - ECPv5.9.0//NONSGML v1.0//EN
CALSCALE:GREGORIAN
METHOD:PUBLISH
X-WR-CALNAME:Luften är Fri
X-ORIGINAL-URL:https://www.luftenarfri.nu
X-WR-CALDESC:Händelser för Luften är Fri
BEGIN:VTIMEZONE
TZID:Europe/Stockholm
BEGIN:DAYLIGHT
TZOFFSETFROM:+0100
TZOFFSETTO:+0200
TZNAME:CEST
DTSTART:20210328T010000
END:DAYLIGHT
BEGIN:STANDARD
TZOFFSETFROM:+0200
TZOFFSETTO:+0100
TZNAME:CET
DTSTART:20211031T010000
END:STANDARD
END:VTIMEZONE
BEGIN:VEVENT
DTSTART;TZID=Europe/Stockholm:20210706T090000
DTEND;TZID=Europe/Stockholm:20210706T103000
DTSTAMP:20260423T022601
CREATED:20210705T072408Z
LAST-MODIFIED:20210705T092546Z
UID:30848-1625562000-1625567400@www.luftenarfri.nu
SUMMARY:Familjevandring i Skuleskogen
DESCRIPTION:Guidningen utgår från Skuleskogens entré väst. Vandringen är lättsam och riktar sig till hela familjen\, gammal som ung. Vi lyssnar\, känner\, luktar och ser när vi ska upptäcka de växter och djur som finns i Skuleskogen. \nTa med fika som vi äter vid utsikten till Nylandsruten. Vi samlas vid entré väst. Guidningen tar ca en och en halv timme. \nFöranmälan senast kl. 18 på måndag till naturum 0613 – 700 200. Max 15 deltagare.
URL:https://www.luftenarfri.nu/evenemang/familjevandring-i-skuleskogen/2021-07-06/
LOCATION:Skuleskogen entré nord\, Skuleskogen entré Nord\, Ångermanland\, 89391\, Sverige
CATEGORIES:Skogsnära
ATTACH;FMTTYPE=image/jpeg:https://www.luftenarfri.nu/wp-content/uploads/2021/07/Kambraken-Foto-Louise-Bergqvist-3-scaled.jpg
ORGANIZER;CN="naturum%20H%26ouml%3Bga%20Kusten":MAILTO:info@naturumhogakusten.se
GEO:63.1351;18.5155332
X-APPLE-STRUCTURED-LOCATION;VALUE=URI;X-ADDRESS=Skuleskogen entré nord Skuleskogen entré Nord Ångermanland 89391 Sverige;X-APPLE-RADIUS=500;X-TITLE=Skuleskogen entré Nord:geo:18.5155332,63.1351
END:VEVENT
END:VCALENDAR