BEGIN:VCALENDAR
VERSION:2.0
PRODID:-//Luften är Fri - ECPv5.9.0//NONSGML v1.0//EN
CALSCALE:GREGORIAN
METHOD:PUBLISH
X-WR-CALNAME:Luften är Fri
X-ORIGINAL-URL:https://www.luftenarfri.nu
X-WR-CALDESC:Händelser för Luften är Fri
BEGIN:VTIMEZONE
TZID:Europe/Stockholm
BEGIN:DAYLIGHT
TZOFFSETFROM:+0100
TZOFFSETTO:+0200
TZNAME:CEST
DTSTART:20210328T010000
END:DAYLIGHT
BEGIN:STANDARD
TZOFFSETFROM:+0200
TZOFFSETTO:+0100
TZNAME:CET
DTSTART:20211031T010000
END:STANDARD
END:VTIMEZONE
BEGIN:VEVENT
DTSTART;TZID=Europe/Stockholm:20210401T130000
DTEND;TZID=Europe/Stockholm:20210401T150000
DTSTAMP:20260423T005127
CREATED:20210309T142434Z
LAST-MODIFIED:20210309T142434Z
UID:10972-1617282000-1617289200@www.luftenarfri.nu
SUMMARY:FAMILJESPÅRTUR PÅ SKIDOR
DESCRIPTION:Vem har gjort spår i snön? Vad gör egentligen alla djuren på vintern? Och vilka spår lämnar vi själva efter oss? Tänk att allt som händer lämnar spår\, och med lite fantasi och hjälp av spåren kan man läsa i naturen nästan som en bok! Vi skidar ut tillsammans och ser vilka spår vi hittar just i dag. Kanske inte bara efter klövar och tassar\, med skarpa ögon kan du upptäcka mycket mer. Samling vid naturum klockan 13.00\, vi är tillbaka cirka kl 15.00.\nMax antal deltagare: 8 personer\nFöranmälan på tel 010-225 32 26\nDet är gratis att följa med! \nTänk på risken för spridning av Covid-19 – håll i\, håll ut och håll minst en stavlängds avstånd till varandra\, även utomhus!
URL:https://www.luftenarfri.nu/evenemang/familjespartur-pa-skidor/2021-04-01/
LOCATION:Vålådalen\, Vålådalen\, Vålådalen\, Jämtland\, 83775\, Sverige
CATEGORIES:Fjällnära,Skogsnära
ATTACH;FMTTYPE=image/jpeg:https://www.luftenarfri.nu/wp-content/uploads/2021/03/barn-pa-skidor-2_beskuren.jpg
ORGANIZER;CN="Naturum%20V%26aring%3Bl%26aring%3Bdalen":MAILTO:naturum.jamtland@lansstyrelsen.se
GEO:63.1483566;12.966372
X-APPLE-STRUCTURED-LOCATION;VALUE=URI;X-ADDRESS=Vålådalen Vålådalen Vålådalen Jämtland 83775 Sverige;X-APPLE-RADIUS=500;X-TITLE=Vålådalen:geo:12.966372,63.1483566
END:VEVENT
END:VCALENDAR