BEGIN:VCALENDAR
VERSION:2.0
PRODID:-//Luften är Fri - ECPv5.9.0//NONSGML v1.0//EN
CALSCALE:GREGORIAN
METHOD:PUBLISH
X-WR-CALNAME:Luften är Fri
X-ORIGINAL-URL:https://www.luftenarfri.nu
X-WR-CALDESC:Händelser för Luften är Fri
BEGIN:VTIMEZONE
TZID:Europe/Stockholm
BEGIN:DAYLIGHT
TZOFFSETFROM:+0100
TZOFFSETTO:+0200
TZNAME:CEST
DTSTART:20210328T010000
END:DAYLIGHT
BEGIN:STANDARD
TZOFFSETFROM:+0200
TZOFFSETTO:+0100
TZNAME:CET
DTSTART:20211031T010000
END:STANDARD
END:VTIMEZONE
BEGIN:VEVENT
DTSTART;TZID=Europe/Stockholm:20210225T110000
DTEND;TZID=Europe/Stockholm:20210225T140000
DTSTAMP:20260422T190514
CREATED:20210215T141409Z
LAST-MODIFIED:20210215T141409Z
UID:7228-1614250800-1614261600@www.luftenarfri.nu
SUMMARY:FAMILJEAKTIVITET PÅ NATURUMS GÅRD
DESCRIPTION:Familjeaktivitet utomhus på naturums gård. Var är alla djuren på vintern\, och vad gör de egentligen? I dag kan du lära dig allt om vinter och snö. Gräv en bivack\, öva på att göra upp en eld eller prova på nya\, roliga saker att göra i snön.\nDrop-in\, ingen föranmälan behövs. \nTänk på risken för spridning av Covid-19 och håll avstånd till varandra\, även utomhus!
URL:https://www.luftenarfri.nu/evenemang/familjeaktivitet-pa-naturums-gard/2021-02-25/
LOCATION:Naturum Vålådalen\, Vålådalen\, Vålådalen\, Jämtland\, 83775\, Sverige
CATEGORIES:Fjällnära,Vardagsnära
ATTACH;FMTTYPE=image/jpeg:https://www.luftenarfri.nu/wp-content/uploads/2021/02/gora-upp-eld.jpg
ORGANIZER;CN="Naturum%20V%26aring%3Bl%26aring%3Bdalen":MAILTO:naturum.jamtland@lansstyrelsen.se
GEO:63.15145;12.97103
X-APPLE-STRUCTURED-LOCATION;VALUE=URI;X-ADDRESS=Naturum Vålådalen Vålådalen Vålådalen Jämtland 83775 Sverige;X-APPLE-RADIUS=500;X-TITLE=Vålådalen:geo:12.97103,63.15145
END:VEVENT
END:VCALENDAR