BEGIN:VCALENDAR
VERSION:2.0
PRODID:-//Luften är Fri - ECPv5.9.0//NONSGML v1.0//EN
CALSCALE:GREGORIAN
METHOD:PUBLISH
X-WR-CALNAME:Luften är Fri
X-ORIGINAL-URL:https://www.luftenarfri.nu
X-WR-CALDESC:Händelser för Luften är Fri
BEGIN:VTIMEZONE
TZID:Europe/Stockholm
BEGIN:DAYLIGHT
TZOFFSETFROM:+0100
TZOFFSETTO:+0200
TZNAME:CEST
DTSTART:20210328T010000
END:DAYLIGHT
BEGIN:STANDARD
TZOFFSETFROM:+0200
TZOFFSETTO:+0100
TZNAME:CET
DTSTART:20211031T010000
END:STANDARD
END:VTIMEZONE
BEGIN:VEVENT
DTSTART;VALUE=DATE:20210415
DTEND;VALUE=DATE:20220101
DTSTAMP:20260423T072216
CREATED:20210415T092307Z
LAST-MODIFIED:20210706T095515Z
UID:17324-1618444800-1640995199@www.luftenarfri.nu
SUMMARY:Barnens fågelkryss på Överjärva gård\, Solna
DESCRIPTION:I Barnens fågelkryss spanar du efter 11 olika fågelfigurer som gömmer sig i träden. Följ de gula markeringarna som leder in i skogen. Tips! De ser ut precis som riktiga fåglar… \nKryssa de fågelarter som du hittar i nedan formulär. Slingan är ca 400 m. \nBARNENS FÅGELKRYSS > \n 
URL:https://www.luftenarfri.nu/evenemang/barnens-fagelkryss/
LOCATION:Överjärva gård Solna\, Överjärva gårdsväg 11A\, Solna\, 17068\, Sverige
CATEGORIES:Skogsnära,Vardagsnära
ATTACH;FMTTYPE=image/jpeg:https://www.luftenarfri.nu/wp-content/uploads/2021/04/fagelkryss.jpg
ORGANIZER;CN="%26Ouml%3Bverj%26auml%3Brva%20g%26aring%3Brd":MAILTO:kultur@solna.se
GEO:59.3862017;17.9977966
X-APPLE-STRUCTURED-LOCATION;VALUE=URI;X-ADDRESS=Överjärva gård Solna Överjärva gårdsväg 11A Solna 17068 Sverige;X-APPLE-RADIUS=500;X-TITLE=Överjärva gårdsväg 11A:geo:17.9977966,59.3862017
END:VEVENT
END:VCALENDAR