BEGIN:VCALENDAR
VERSION:2.0
PRODID:-//Luften är Fri - ECPv5.9.0//NONSGML v1.0//EN
CALSCALE:GREGORIAN
METHOD:PUBLISH
X-WR-CALNAME:Luften är Fri
X-ORIGINAL-URL:https://www.luftenarfri.nu
X-WR-CALDESC:Händelser för Luften är Fri
BEGIN:VTIMEZONE
TZID:Europe/Stockholm
BEGIN:DAYLIGHT
TZOFFSETFROM:+0100
TZOFFSETTO:+0200
TZNAME:CEST
DTSTART:20210328T010000
END:DAYLIGHT
BEGIN:STANDARD
TZOFFSETFROM:+0200
TZOFFSETTO:+0100
TZNAME:CET
DTSTART:20211031T010000
END:STANDARD
END:VTIMEZONE
BEGIN:VEVENT
DTSTART;TZID=Europe/Stockholm:20210618T090000
DTEND;TZID=Europe/Stockholm:20210618T120000
DTSTAMP:20260423T011307
CREATED:20210601T105740Z
LAST-MODIFIED:20210601T114526Z
UID:27661-1624006800-1624017600@www.luftenarfri.nu
SUMMARY:Nybörjarvandring i Borstahusen
DESCRIPTION:Är du nyfiken på att upptäcka Skåne till fots\, men ovan att vandra på egen hand? Följ med på guidad vandring i Borstahusen längs Öresundskusten på Skåneleden. Vandringen är kostnadsfri och arrangeras av Stiftelsen Skånska Landskap och Region Skåne. Läs mer om vandringen och boka plats! \nVälkommen ut!
URL:https://www.luftenarfri.nu/evenemang/nyborjarvandring-i-borstahusen/2021-06-18/
LOCATION:Borstahusen\, Lill-Olas väg\, Landskrona\, 26161\, Sverige
CATEGORIES:Strandnära
ORGANIZER;CN="Stiftelsen%20Sk%26aring%3Bnska%20Landskap":MAILTO:info@skanskalandskap.se
GEO:55.9057281;12.8083355
X-APPLE-STRUCTURED-LOCATION;VALUE=URI;X-ADDRESS=Borstahusen Lill-Olas väg Landskrona 26161 Sverige;X-APPLE-RADIUS=500;X-TITLE=Lill-Olas väg:geo:12.8083355,55.9057281
END:VEVENT
BEGIN:VEVENT
DTSTART;TZID=Europe/Stockholm:20210601T120000
DTEND;TZID=Europe/Stockholm:20210831T170000
DTSTAMP:20260423T011307
CREATED:20210601T102141Z
LAST-MODIFIED:20210715T100024Z
UID:27665-1622548800-1630429200@www.luftenarfri.nu
SUMMARY:Utställning på Fulltofta Naturcentrum: Speciella träd
DESCRIPTION:Vad gör ett träd speciellt? Vad är det som gör att vissa träd lockar oss att stanna i ren beundran och nyfikenhet samt att vilja mötas och komma nära? Det går lätt att uttrycka det som kärlek till träden och skogen. Stiftelsen Skånska Landskap öppnar utställningen ”Speciella träd – ur ett humanistiskt perspektiv” på Fulltofta Naturcentrum. Inget inträde. \nÖppet tis-sönd kl 12-17 (1 juni-31 aug) \nLäs mer om Fulltofta strövområde med fjorton olika markerade vandringsleder. \nVälkommen!
URL:https://www.luftenarfri.nu/evenemang/utstallning-pa-fulltofta-naturcentrum-speciella-trad/
LOCATION:Fulltofta Naturcentrum\, Stiftelsen Skånska Landskap\, Kvarröd 4058\, Hörby\, 24294\, Sverige
CATEGORIES:Skogsnära
ATTACH;FMTTYPE=image/jpeg:https://www.luftenarfri.nu/wp-content/uploads/2021/06/Fototavling-Speciella-trad-scaled.jpg
ORGANIZER;CN="Stiftelsen%20Sk%26aring%3Bnska%20Landskap":MAILTO:info@skanskalandskap.se
GEO:55.8890469;13.6402399
X-APPLE-STRUCTURED-LOCATION;VALUE=URI;X-ADDRESS=Fulltofta Naturcentrum Stiftelsen Skånska Landskap Kvarröd 4058 Hörby 24294 Sverige;X-APPLE-RADIUS=500;X-TITLE=Kvarröd 4058:geo:13.6402399,55.8890469
END:VEVENT
BEGIN:VEVENT
DTSTART;TZID=Europe/Stockholm:20210315T080000
DTEND;TZID=Europe/Stockholm:20210315T180000
DTSTAMP:20260423T011307
CREATED:20210316T091108Z
LAST-MODIFIED:20210316T091108Z
UID:13363-1615795200-1615831200@www.luftenarfri.nu
SUMMARY:Vandra med konstverk i Fulltofta
DESCRIPTION:Vandra och se konst svävande i trädkronorna i Fulltofta strövområde. Stiftelsen Skånska Landskap visar utomhusutställningen ”I natt är vi sårbara” på Ravinslingan som är en tillgänglig slinga på ca 1 km. \nKonstnären Liv Vesterskov vill lyfta ämnet sårbarhet under coronakrisen. Hon beskriver: Det är en tid då gränserna stänger mellan landsdelar\, länder och människor. Som en lång sömn vi inte vet hur länge vi kommer vara i. I natt är vi sårbara är en vandring i skogen\, ett konstverk av gips som undersöker samtidens sårbarhet och vad vi kan upptäcka i den och om oss själva om vi ser efter. \nLäs mer om Fulltofta strövområdes alla vandringsleder\, grillplatser\, Naturcentrum mm. \n  \n 
URL:https://www.luftenarfri.nu/evenemang/vandra-med-konstverk-i-fulltofta/2021-03-15/
LOCATION:Fulltofta Naturcentrum\, Stiftelsen Skånska Landskap\, Kvarröd 4058\, Hörby\, 24294\, Sverige
CATEGORIES:Skogsnära
ORGANIZER;CN="Stiftelsen%20Sk%26aring%3Bnska%20Landskap":MAILTO:info@skanskalandskap.se
GEO:55.8890469;13.6402399
X-APPLE-STRUCTURED-LOCATION;VALUE=URI;X-ADDRESS=Fulltofta Naturcentrum Stiftelsen Skånska Landskap Kvarröd 4058 Hörby 24294 Sverige;X-APPLE-RADIUS=500;X-TITLE=Kvarröd 4058:geo:13.6402399,55.8890469
END:VEVENT
BEGIN:VEVENT
DTSTART;TZID=Europe/Stockholm:20210226T130000
DTEND;TZID=Europe/Stockholm:20210226T143000
DTSTAMP:20260423T011307
CREATED:20210222T080900Z
LAST-MODIFIED:20210222T080900Z
UID:8439-1614344400-1614349800@www.luftenarfri.nu
SUMMARY:Laga stormköksmat i Möllerödssjö
DESCRIPTION:Under sportlovet vecka 8 har din familj möjlighet att gratis låna ett stormkök av Stiftelsen Skånska Landskap vid badplatsen i Möllerödssjö strövområde. Boka plats nedan på klockslag 26\, 27 el 28 feb. Två tillfällen per dag. På plats finns naturvägledare Anders Larsson från Stiftelsen Skånska Landskap som guidar. \nTider: \n26 feb\, kl 11.30-13 samt kl 13-14.30. \n27 feb kl 11.30-13 samt kl 13-14.30 \n28 feb kl 11.30-13 samt kl 13-14.30 \nPlats: Möllerödssjö strövområde\, badplatsen \nTa med: Mat\, ingredienser\, redskap tar ni med er själva. \nOBS Vi följer FHM:s rekommendationer för att minska smittspridning. Givetvis håller vi avstånd mellan sällskapen. Vid minsta symptom stannar man hemma. \nBegränsat antal stormkök. \nVälkomna!
URL:https://www.luftenarfri.nu/evenemang/laga-stormkoksmat-i-mollerodssjo-2/2021-02-26/
LOCATION:Möllerödssjö strövområde\, badplatsen\, Lilla mölleröd 1576\, Bjärnum\, Skåne\, 28020\, Sverige
CATEGORIES:Skogsnära
ATTACH;FMTTYPE=image/jpeg:https://www.luftenarfri.nu/wp-content/uploads/2021/02/Lana-ett-stormkok-1-scaled.jpg
ORGANIZER;CN="Stiftelsen%20Sk%26aring%3Bnska%20Landskap":MAILTO:info@skanskalandskap.se
GEO:56.279995186142;13.728877853735
X-APPLE-STRUCTURED-LOCATION;VALUE=URI;X-ADDRESS=Möllerödssjö strövområde badplatsen Lilla mölleröd 1576 Bjärnum Skåne 28020 Sverige;X-APPLE-RADIUS=500;X-TITLE=Lilla mölleröd 1576:geo:13.728877853735,56.279995186142
END:VEVENT
BEGIN:VEVENT
DTSTART;TZID=Europe/Stockholm:20210226T113000
DTEND;TZID=Europe/Stockholm:20210226T130000
DTSTAMP:20260423T011307
CREATED:20210222T075650Z
LAST-MODIFIED:20210222T080538Z
UID:8408-1614339000-1614344400@www.luftenarfri.nu
SUMMARY:Laga stormköksmat i Möllerödssjö
DESCRIPTION:Under sportlovet vecka 8 har din familj möjlighet att gratis låna ett stormkök av Stiftelsen Skånska Landskap vid badplatsen i Möllerödssjö strövområde. Boka plats nedan på klockslag 26\, 27 el 28 feb. Två tillfällen per dag. På plats finns naturvägledare Anders Larsson från Stiftelsen Skånska Landskap som guidar. \nTider: \n26 feb\, kl 11.30-13 samt kl 13-14.30. \n27 feb kl 11.30-13 samt kl 13-14.30 \n28 feb kl 11.30-13 samt kl 13-14.30 \nPlats: Möllerödssjö strövområde\, badplatsen \nTa med: Mat\, ingredienser\, redskap tar ni med er själva. \nOBS Vi följer FHM:s rekommendationer för att minska smittspridning. Givetvis håller vi avstånd mellan sällskapen. Vid minsta symptom stannar man hemma. \nBegränsat antal stormkök. \nVälkomna!
URL:https://www.luftenarfri.nu/evenemang/laga-stormkoksmat-i-mollerodssjo/2021-02-26/
LOCATION:Möllerödssjö strövområde\, badplatsen\, Lilla mölleröd 1576\, Bjärnum\, Skåne\, 28020\, Sverige
CATEGORIES:Skogsnära
ATTACH;FMTTYPE=image/jpeg:https://www.luftenarfri.nu/wp-content/uploads/2021/02/Lana-ett-stormkok-1-scaled.jpg
ORGANIZER;CN="Stiftelsen%20Sk%26aring%3Bnska%20Landskap":MAILTO:info@skanskalandskap.se
GEO:56.279995186142;13.728877853735
X-APPLE-STRUCTURED-LOCATION;VALUE=URI;X-ADDRESS=Möllerödssjö strövområde badplatsen Lilla mölleröd 1576 Bjärnum Skåne 28020 Sverige;X-APPLE-RADIUS=500;X-TITLE=Lilla mölleröd 1576:geo:13.728877853735,56.279995186142
END:VEVENT
BEGIN:VEVENT
DTSTART;TZID=Europe/Stockholm:20210222T120000
DTEND;TZID=Europe/Stockholm:20210222T153000
DTSTAMP:20260423T011307
CREATED:20210222T090124Z
LAST-MODIFIED:20210225T083134Z
UID:8400-1613995200-1614007800@www.luftenarfri.nu
SUMMARY:Trekamp i Fulltofta
DESCRIPTION:Under sportlovet kan du och din familj utmana varandra i trekamp på Gröningen i Fulltofta strövområde. Kubbrullning\, kottkastning och tre-i-rad är de tre utmaningarna. Hämta instruktioner och lapp vid Fulltofta Naturcentrums takeaway-café som är öppet 12-15.30 hela sportlovsveckan. \nLäs mer om Stiftelsen Skånska Landskap och Fulltofta strövområde med alla vandringsleder\, Sagostubben\, tillgängliga leder\, grillplatser mm. \nOBS Vi följer FHM:s rekommendationer för att minska smittspridning. Givetvis håller vi avstånd mellan sällskapen. Vid minsta symptom stannar man hemma.
URL:https://www.luftenarfri.nu/evenemang/trekamp-i-fulltofta/2021-02-22/
LOCATION:Fulltofta Naturcentrum\, Stiftelsen Skånska Landskap\, Kvarröd 4058\, Hörby\, 24294\, Sverige
CATEGORIES:Skogsnära
ATTACH;FMTTYPE=image/jpeg:https://www.luftenarfri.nu/wp-content/uploads/2021/02/Foto-Groningen.jpg
ORGANIZER;CN="Stiftelsen%20Sk%26aring%3Bnska%20Landskap":MAILTO:info@skanskalandskap.se
GEO:55.8890469;13.6402399
X-APPLE-STRUCTURED-LOCATION;VALUE=URI;X-ADDRESS=Fulltofta Naturcentrum Stiftelsen Skånska Landskap Kvarröd 4058 Hörby 24294 Sverige;X-APPLE-RADIUS=500;X-TITLE=Kvarröd 4058:geo:13.6402399,55.8890469
END:VEVENT
BEGIN:VEVENT
DTSTART;TZID=Europe/Stockholm:20210220T070000
DTEND;TZID=Europe/Stockholm:20210220T180000
DTSTAMP:20260423T011307
CREATED:20210222T082151Z
LAST-MODIFIED:20210223T112756Z
UID:8405-1613804400-1613844000@www.luftenarfri.nu
SUMMARY:Tipspromenad i Järavallen om Allemansrätten
DESCRIPTION:Under sportlovet v 8 kan du gå en kortare tipspromenad i Järavallen och lära dig om Allemansrätten & Allemanskyldigheten. \nTipsrundan går längs Röda slingan\, 2\,2 km\, är helt digital och anpassad för barn och vuxna. Allt du behöver är en smartphone med möjlighet att ladda ned appen ”Tipsrundan” och skanna QR-koden på våra infotavlor längs stigen. Information finns uppe på våra tavlor från lördag v 7. \nVill du läsa på om Allemansrätten innan du ger dig ut? Kika under Bra att veta så att du får bättre koll! \nLäs mer om vårt Järavallen strövområde med vandringsleder\, mtb-led\, ridled och vacker natur. \nUnder vecka 9 meddelar vi de rätta svaren på vår hemsida.
URL:https://www.luftenarfri.nu/evenemang/tipspromenad-i-jaravallen-om-allemansratten/2021-02-20/
LOCATION:Järavallen strövområde\, västra parkeringen\, Hofterup\, Kävlinge\, Sverige
CATEGORIES:Skogsnära
ATTACH;FMTTYPE=image/jpeg:https://www.luftenarfri.nu/wp-content/uploads/2021/02/Jaravallen-TL-5.jpg
ORGANIZER;CN="Stiftelsen%20Sk%26aring%3Bnska%20Landskap":MAILTO:info@skanskalandskap.se
GEO:55.805713031544;12.938733548657
X-APPLE-STRUCTURED-LOCATION;VALUE=URI;X-ADDRESS=Järavallen strövområde västra parkeringen Hofterup Kävlinge Sverige;X-APPLE-RADIUS=500;X-TITLE=Hofterup:geo:12.938733548657,55.805713031544
END:VEVENT
END:VCALENDAR