BEGIN:VCALENDAR
VERSION:2.0
PRODID:-//Luften är Fri - ECPv5.9.0//NONSGML v1.0//EN
CALSCALE:GREGORIAN
METHOD:PUBLISH
X-WR-CALNAME:Luften är Fri
X-ORIGINAL-URL:https://www.luftenarfri.nu
X-WR-CALDESC:Händelser för Luften är Fri
BEGIN:VTIMEZONE
TZID:Europe/Stockholm
BEGIN:DAYLIGHT
TZOFFSETFROM:+0100
TZOFFSETTO:+0200
TZNAME:CEST
DTSTART:20210328T010000
END:DAYLIGHT
BEGIN:STANDARD
TZOFFSETFROM:+0200
TZOFFSETTO:+0100
TZNAME:CET
DTSTART:20211031T010000
END:STANDARD
END:VTIMEZONE
BEGIN:VEVENT
DTSTART;TZID=Europe/Stockholm:20211106T100000
DTEND;TZID=Europe/Stockholm:20211106T140000
DTSTAMP:20260422T214221
CREATED:20211101T095420Z
LAST-MODIFIED:20211101T095420Z
UID:34139-1636192800-1636207200@www.luftenarfri.nu
SUMMARY:Höstlovsfiske Halmstad
DESCRIPTION:Prova-på fiske för barn\, ungdomar och familjer. \nPlats: Toftasjön \nArrangör: SFK Laxen \nTa med egen matsäck\, en del utrustning finns för utlåning.
URL:https://www.luftenarfri.nu/evenemang/hostlovsfiske-halmstad/2021-11-06/
LOCATION:Toftasjön\, Halmstad\, Toftasjön\, Halmstad
CATEGORIES:Strandnära
ATTACH;FMTTYPE=image/jpeg:https://www.luftenarfri.nu/wp-content/uploads/2021/10/FÅ-fiske-1200-2.jpg
ORGANIZER;CN="Sportfiskarna":MAILTO:christofer.brugge@sportfiskarna.se
GEO:56.6993109;13.0055147
X-APPLE-STRUCTURED-LOCATION;VALUE=URI;X-ADDRESS=Toftasjön Halmstad Toftasjön Halmstad;X-APPLE-RADIUS=500;X-TITLE=Toftasjön:geo:13.0055147,56.6993109
END:VEVENT
BEGIN:VEVENT
DTSTART;TZID=Europe/Stockholm:20211103T180000
DTEND;TZID=Europe/Stockholm:20211103T210000
DTSTAMP:20260422T214221
CREATED:20211028T144056Z
LAST-MODIFIED:20211028T144056Z
UID:34079-1635962400-1635973200@www.luftenarfri.nu
SUMMARY:Betesbyggnad under höstlovet i Boden
DESCRIPTION:Vi kommer att förvandla en trästav till ett bete som du har chans att fånga ditt nya personbästa på. Vi kommer ha möjlighet att tälja\, slipa\, vikta\, måla och lacka dessa beten precis som vi vill. Vi kommer även få besök av gäster som är otroligt duktiga på betesbyggnad så detta får ni inte missa. \nI och med att vi kommer arbeta med vassa tillbehör så som kniv och rasp så krävs det otrolig försiktighet samt vana att använda dessa redskap. Därav har vi satt en ålder på mellan 10-17 år. \nEndast 10 personer per aktivitet. Så först till kvarn gäller. Anmälan skickas till tobias.hellman@sportfiskarna.se
URL:https://www.luftenarfri.nu/evenemang/betesbyggnad-under-hostlovet-i-boden/2021-11-03/
LOCATION:Börstingens lokal\, Lavettvägen 1\, 961 43 Boden\, Sverige
CATEGORIES:Strandnära
ATTACH;FMTTYPE=image/jpeg:https://www.luftenarfri.nu/wp-content/uploads/2021/10/beten-800-1.jpeg
ORGANIZER;CN="Sportfiskarna":MAILTO:christofer.brugge@sportfiskarna.se
GEO:65.8004318;21.6719425
X-APPLE-STRUCTURED-LOCATION;VALUE=URI;X-ADDRESS=Börstingens lokal Lavettvägen 1 961 43 Boden Sverige;X-APPLE-RADIUS=500;X-TITLE=Lavettvägen 1:geo:21.6719425,65.8004318
END:VEVENT
BEGIN:VEVENT
DTSTART;TZID=Europe/Stockholm:20211101T180000
DTEND;TZID=Europe/Stockholm:20211101T210000
DTSTAMP:20260422T214221
CREATED:20211028T143427Z
LAST-MODIFIED:20211028T143427Z
UID:34069-1635789600-1635800400@www.luftenarfri.nu
SUMMARY:Betesbyggnad under höstlovet i Luleå
DESCRIPTION:Vi kommer att förvandla en trästav till ett bete som du har chans att fånga ditt nya personbästa på. Vi kommer ha möjlighet att tälja\, slipa\, vikta\, måla och lacka dessa beten precis som vi vill. Vi kommer även få besök av gäster som är otroligt duktiga på betesbyggnad så detta får ni inte missa. \nI och med att vi kommer arbeta med vassa tillbehör så som kniv och rasp så krävs det otrolig försiktighet samt vana att använda dessa redskap. Därav har vi satt en ålder på mellan 10-17 år. \nEndast 10 personer per aktivitet. Så först till kvarn gäller. Anmälan skickas till tobias.hellman@sportfiskarna.se
URL:https://www.luftenarfri.nu/evenemang/betesbyggnad-under-hostlovet-i-lulea/2021-11-01/
LOCATION:Studiefrämjandets lokal\, Luleå\, Kyrkogatan 2\, 972 32 Luleå\, Sverige
CATEGORIES:Strandnära
ATTACH;FMTTYPE=image/jpeg:https://www.luftenarfri.nu/wp-content/uploads/2021/10/beten-800.jpeg
ORGANIZER;CN="Sportfiskarna":MAILTO:christofer.brugge@sportfiskarna.se
GEO:65.5810674;22.1488751
X-APPLE-STRUCTURED-LOCATION;VALUE=URI;X-ADDRESS=Studiefrämjandets lokal Luleå Kyrkogatan 2 972 32 Luleå Sverige;X-APPLE-RADIUS=500;X-TITLE=Kyrkogatan 2:geo:22.1488751,65.5810674
END:VEVENT
BEGIN:VEVENT
DTSTART;TZID=Europe/Stockholm:20211027T083000
DTEND;TZID=Europe/Stockholm:20211027T153000
DTSTAMP:20260422T214221
CREATED:20210929T134211Z
LAST-MODIFIED:20210930T074921Z
UID:33257-1635323400-1635348600@www.luftenarfri.nu
SUMMARY:Rödingens dag – för skolan
DESCRIPTION:I slutet av oktober leker Rödingen och det är ett mycket speciellt skådespel som många uppskattar att ta del av. Länsstyrelsen och Sportfiskarna bjuder in skolklasser åk 4-6 att delta i ett lektionstillfälle i Huskvarna hamn med fokus på rödingen och Vättern. Föranmälan krävs. \nDet kommer finnas flera stationer där vi tar upp olika frågor kopplat till rödingen och Vättern. \n\nHur röding påverkas av varmare klimat\nBiologi om rödingen\nMiljökrav för röding\nHur fisket ser ut i Vättern\nVätterns ekosystemtjänster\nVilka fiskarter som finns i Vättern\n\nLektionen kommer pågå 1\,5 timmar per klass och anmälan krävs till rasmus.linderfalk@lansstyrelsen.se. Anmälan är genomförd efter att du fått en bekräftelse per mail. \nFöljande tider finns 27 och 28 oktober: \n8:30-10:00\n10:15-11:45\n12:15-13:45\n14.00-15.30 (för lärare) \nArrangör: Länsstyrelsen och Sportfiskarna
URL:https://www.luftenarfri.nu/evenemang/rodingens-dag-for-skolan/2021-10-27/
LOCATION:Huskvarna Hamn\, Grännavägen 40\, Huskvarna\, Jönköping\, 561 34\, Sverige
CATEGORIES:Strandnära
ATTACH;FMTTYPE=image/png:https://www.luftenarfri.nu/wp-content/uploads/2021/09/Lekande_roding_LSTjonkoping_sportfiskarna.png
GEO:57.803207014194;14.271095646789
X-APPLE-STRUCTURED-LOCATION;VALUE=URI;X-ADDRESS=Huskvarna Hamn Grännavägen 40 Huskvarna Jönköping 561 34 Sverige;X-APPLE-RADIUS=500;X-TITLE=Grännavägen 40:geo:14.271095646789,57.803207014194
END:VEVENT
BEGIN:VEVENT
DTSTART;TZID=Europe/Stockholm:20210519T170000
DTEND;TZID=Europe/Stockholm:20210519T190000
DTSTAMP:20260422T214221
CREATED:20210506T070245Z
LAST-MODIFIED:20210506T070245Z
UID:24660-1621443600-1621450800@www.luftenarfri.nu
SUMMARY:Fiska näbbgädda med Sportfiskarna!
DESCRIPTION:Är du ungdom och sugen på att göra något kul efter skolan!? Under fyra vardagskvällar i maj kommer Sportfiskarna på Gotland att arrangera kustfiskeaktiviteter med fokus på näbbgädda. Vid dessa tillfällen har du chansen att testa på fisket efter den här exotiska och häftiga arten som besöker kusten runt Gotland några veckor varje vår! Duktiga instruktörer finns på plats! \nAktiviteten är gratis och all utrustning finns att låna. Om man vill ta med sig egen utrustning rekommenderas ett vanligt spinnspö (7-10 fot) med en kastvikt på mellan 10-40 gr. Vadarbyxor finns för utlåning\, men medtag gärna egna om möjligt. \nRekommenderad lägsta ålder för aktiviteten är 12 år. \nMed anledning av rådande pandemi är deltagarantalet begränsat och det krävs föranmälan för samtliga tillfällen. Det är bara möjligt att anmäla sig till ett tillfälle/person. \nFör mer information och anmälan: joakim.lyander@sportfiskarna.se. Uppge namn på deltagande ungdom samt telefonnummer vid anmälan. \nPlats: Tofta Södra. Detaljerad vägbeskrivning fås vid anmälan.
URL:https://www.luftenarfri.nu/evenemang/fiska-nabbgadda-med-sportfiskarna/2021-05-19/
LOCATION:Tofta\, Tofta Strand\, Visby\, Gotland\, Sverige
CATEGORIES:Strandnära,Vardagsnära
ORGANIZER;CN="Sportfiskarna":MAILTO:christofer.brugge@sportfiskarna.se
GEO:57.4898701;18.1271485
X-APPLE-STRUCTURED-LOCATION;VALUE=URI;X-ADDRESS=Tofta Tofta Strand Visby Gotland Sverige;X-APPLE-RADIUS=500;X-TITLE=Tofta Strand:geo:18.1271485,57.4898701
END:VEVENT
BEGIN:VEVENT
DTSTART;TZID=Europe/Stockholm:20210506T160000
DTEND;TZID=Europe/Stockholm:20210506T180000
DTSTAMP:20260422T214221
CREATED:20210506T070122Z
LAST-MODIFIED:20210506T070122Z
UID:24663-1620316800-1620324000@www.luftenarfri.nu
SUMMARY:Båtfiske i Magelungen
DESCRIPTION:Alla fiskesugna barn och ungdomar 10-19 år bjuds in till att vid två tillfällen komma och fiska i sjön Magelungen. Aktiviteten anordnas av Sportfiskarna och Miska Escobar från Sportfiskeklubben Magelungen. \nAktiviteten är helt kostnadsfri och lämpar sig för barn och ungdomar från 10 år och uppåt. Tidigare kunskaper och erfarenhet av fiske med spinnspö är att rekommendera. Vi kommer att fiska från båtar. \nVill ni ta med er egen utrustning för att få tips och råd om hur man bäst använder den så går det jättebra\, annars finns all nödvändig utrustning att låna\, OBS även flytväst finns att låna. \nMed anledning av rådande omständigheter och restriktioner har en anpassning av aktiviteten gjorts för att minska risken för spridning av Covid-19. Alla deltagare ska därför anmäla sig i förväg. För att så många som möjligt ska få chansen att prova på fiske kan man bara boka er till ett av tillfällena. \nAnmälan:\nAnmäl er till: mattias.andersson@sportfiskarna.se\nAnge ämne: Street Magelungen\nI mejlet anger du: Namn\, ålder\, telefonnummer och datum på tillfället du vill vara med på. \nMötesplats: Farsta strand vid Magelungen klicka här för karta.
URL:https://www.luftenarfri.nu/evenemang/batfiske-i-magelungen/2021-05-06/
LOCATION:Magelungen\, Farsta Strand vid Magelungen\, Farsta\, Sverige
CATEGORIES:Strandnära
ATTACH;FMTTYPE=image/jpeg:https://www.luftenarfri.nu/wp-content/uploads/2021/05/baatfiske-ungdomar-magelungen-800.jpeg
ORGANIZER;CN="Sportfiskarna":MAILTO:christofer.brugge@sportfiskarna.se
GEO:59.2349966;18.0939904
X-APPLE-STRUCTURED-LOCATION;VALUE=URI;X-ADDRESS=Magelungen Farsta Strand vid Magelungen Farsta Sverige;X-APPLE-RADIUS=500;X-TITLE=Farsta Strand vid Magelungen:geo:18.0939904,59.2349966
END:VEVENT
BEGIN:VEVENT
DTSTART;VALUE=DATE:20210401
DTEND;VALUE=DATE:20210402
DTSTAMP:20260422T214221
CREATED:20210407T074246Z
LAST-MODIFIED:20210407T074246Z
UID:15192-1617235200-1617321599@www.luftenarfri.nu
SUMMARY:Fiska för 1kr under hela april\, Uppsala
DESCRIPTION:Fiska för 1kr/dag i samtliga vatten som ingår i Sportfiskekortet Uppsala i Uppsalaområdet. Mer information om Sportfiskekortet Uppsala vilka vatten som ingår samt fiskekort hittar ni via länken till fiskekort.se här intill. \nFiske har alltid varit en väldigt populär aktivitet i Sverige\, men under pandemin har intresset i det närmaste exploderat. Under 2020 ökade antalet fiskekort som Sportfiskarna förmedlade med drygt 50 % jämfört med året innan. Som förbund vill vi göra det vi kan för att så många som möjligt ska få möjlighet att komma ut och fiska och därför upplåter vi nu fiske för 1kr/dag under april som en del av Friluftslivets år.
URL:https://www.luftenarfri.nu/evenemang/fiska-for-1kr-under-hela-april-uppsala/2021-04-01/
LOCATION:Uppsala\, Uppsala\, Uppsala\, Sverige
CATEGORIES:Strandnära
ATTACH;FMTTYPE=image/jpeg:https://www.luftenarfri.nu/wp-content/uploads/2021/03/Abborre-fiske-1kr-2.jpeg
ORGANIZER;CN="Sportfiskarna":MAILTO:christofer.brugge@sportfiskarna.se
GEO:59.8585638;17.6389267
END:VEVENT
BEGIN:VEVENT
DTSTART;VALUE=DATE:20210401
DTEND;VALUE=DATE:20210402
DTSTAMP:20260422T214221
CREATED:20210407T074159Z
LAST-MODIFIED:20210407T074159Z
UID:15188-1617235200-1617321599@www.luftenarfri.nu
SUMMARY:Fiska för 1kr under hela april\, Stockholm
DESCRIPTION:Fiska för 1kr/dag i samtliga vatten som ingår i Sportfiskekortet region mitt i Stockholmsområdet. Mer information om Sportfiskekortet\, vilka vatten som ingår samt fiskekort hittar ni via länken till fiskekort.se här intill. \nFiske har alltid varit en väldigt populär aktivitet i Sverige\, men under pandemin har intresset i det närmaste exploderat. Under 2020 ökade antalet fiskekort som Sportfiskarna förmedlade med drygt 50 % jämfört med året innan. Som förbund vill vi göra det vi kan för att så många som möjligt ska få möjlighet att komma ut och fiska och därför upplåter vi nu fiske för 1kr/dag under april som en del av Friluftslivets år.
URL:https://www.luftenarfri.nu/evenemang/fiska-for-1kr-under-hela-april-stockholm/2021-04-01/
LOCATION:Stockholm\, https://goo.gl/maps/nsTAauVpbFkuVi1s8
CATEGORIES:Strandnära
ATTACH;FMTTYPE=image/jpeg:https://www.luftenarfri.nu/wp-content/uploads/2021/03/Abborre-fiske-1kr-1.jpeg
ORGANIZER;CN="Sportfiskarna":MAILTO:christofer.brugge@sportfiskarna.se
END:VEVENT
BEGIN:VEVENT
DTSTART;VALUE=DATE:20210401
DTEND;VALUE=DATE:20210402
DTSTAMP:20260422T214221
CREATED:20210407T074051Z
LAST-MODIFIED:20210407T074051Z
UID:15185-1617235200-1617321599@www.luftenarfri.nu
SUMMARY:Fiska för 1kr under hela april\, Göteborg
DESCRIPTION:Fiska för 1kr/dag i samtliga vatten som ingår i Fiskekortet Gula kortet i Göteborgsområdet. Mer information om Gula kortet\, vilka vatten som ingår samt fiskekort hittar ni via länken till fiskekort.se här intill. \nFiske har alltid varit en väldigt populär aktivitet i Sverige\, men under pandemin har intresset i det närmaste exploderat. Under 2020 ökade antalet fiskekort som Sportfiskarna förmedlade med drygt 50 % jämfört med året innan. Som förbund vill vi göra det vi kan för att så många som möjligt ska få möjlighet att komma ut och fiska och därför upplåter vi nu fiske för 1kr/dag under april som en del av Friluftslivets år.
URL:https://www.luftenarfri.nu/evenemang/fiska-for-1kr-under-hela-april-goteborg/2021-04-01/
LOCATION:Göteborg\, Sverige
CATEGORIES:Strandnära
ATTACH;FMTTYPE=image/jpeg:https://www.luftenarfri.nu/wp-content/uploads/2021/03/Abborre-fiske-1kr.jpeg
ORGANIZER;CN="Sportfiskarna":MAILTO:christofer.brugge@sportfiskarna.se
GEO:57.718167;11.976222
END:VEVENT
END:VCALENDAR