BEGIN:VCALENDAR
VERSION:2.0
PRODID:-//Luften är Fri - ECPv5.9.0//NONSGML v1.0//EN
CALSCALE:GREGORIAN
METHOD:PUBLISH
X-WR-CALNAME:Luften är Fri
X-ORIGINAL-URL:https://www.luftenarfri.nu
X-WR-CALDESC:Händelser för Luften är Fri
BEGIN:VTIMEZONE
TZID:Europe/Stockholm
BEGIN:DAYLIGHT
TZOFFSETFROM:+0100
TZOFFSETTO:+0200
TZNAME:CEST
DTSTART:20210328T010000
END:DAYLIGHT
BEGIN:STANDARD
TZOFFSETFROM:+0200
TZOFFSETTO:+0100
TZNAME:CET
DTSTART:20211031T010000
END:STANDARD
END:VTIMEZONE
BEGIN:VEVENT
DTSTART;TZID=Europe/Stockholm:20210315T080000
DTEND;TZID=Europe/Stockholm:20211031T170000
DTSTAMP:20260422T230552
CREATED:20210303T151914Z
LAST-MODIFIED:20210715T100222Z
UID:10361-1615795200-1635699600@www.luftenarfri.nu
SUMMARY:Spela Skåneleden-bingo!
DESCRIPTION:Ge dig själv en härlig utmaning under Friluftslivets År! Skriv ut och kryssa för de etapper som du vandrat\, eller spela bingo med en kompis. Kan du få tre i rad? \nKlicka här för att ladda ner listan över etapperna.
URL:https://www.luftenarfri.nu/evenemang/spela-skaneleden-bingo/
LOCATION:Skåne\, Skåne\, Sverige
CATEGORIES:Vardagsnära
ATTACH;FMTTYPE=image/jpeg:https://www.luftenarfri.nu/wp-content/uploads/2021/03/Skaneledenbingo.jpg
ORGANIZER;CN="Sk%26aring%3Bneleden":MAILTO:info@skaneleden.se
GEO:55.990257;13.595769
END:VEVENT
END:VCALENDAR