BEGIN:VCALENDAR
VERSION:2.0
PRODID:-//Luften är Fri - ECPv5.9.0//NONSGML v1.0//EN
CALSCALE:GREGORIAN
METHOD:PUBLISH
X-WR-CALNAME:Luften är Fri
X-ORIGINAL-URL:https://www.luftenarfri.nu
X-WR-CALDESC:Händelser för Luften är Fri
BEGIN:VTIMEZONE
TZID:Europe/Stockholm
BEGIN:DAYLIGHT
TZOFFSETFROM:+0100
TZOFFSETTO:+0200
TZNAME:CEST
DTSTART:20210328T010000
END:DAYLIGHT
BEGIN:STANDARD
TZOFFSETFROM:+0200
TZOFFSETTO:+0100
TZNAME:CET
DTSTART:20211031T010000
END:STANDARD
END:VTIMEZONE
BEGIN:VEVENT
DTSTART;TZID=Europe/Stockholm:20210504T090000
DTEND;TZID=Europe/Stockholm:20210504T120000
DTSTAMP:20260423T053835
CREATED:20210503T125443Z
LAST-MODIFIED:20210503T125443Z
UID:23771-1620118800-1620129600@www.luftenarfri.nu
SUMMARY:Håvning och natur på Gränsö!
DESCRIPTION:Naturum Västervik och Västerviks Museum erbjuder aktiviteter hela Friluftslivets år 2021. \nMånadens tema är friluftsliv i skyddad natur – lär dig mer om vår natur i Västerviks naturreservat på Gränsö! \nStationer\nInformation om varje aktivitet kommer även att ges på plats. Introduktion (10 min). Hela klassen samtidigt. \nStation 1 Bondbacken/Håvning (20 min)\n6–8 elever\nHär får eleverna följa med en personal från naturum ut i vattnet för att håva arter som lever i grunda vikar. All håvningsutrustning\, vadarstövlar\, håvar\, vattenkikare mm tillhandahålls av naturum. \nStation 2 Bondbacken/Lärare leder denna\naktivitet (20 min)\n6–8 elever\nHär är det upp till varje lärare vad man vill göra. Naturums Tips! \n\nEleverna får titta närmare på näringskedjor i Östersjön. Vilka är producenterna i Östersjön? Vilka däggdjur finns vid vår kust? Denna station leds av elevernas lärare men med material som tillhandahålls av naturum.\nVad hittar vi på stranden? Är det en snäcka eller mussla? Skräp på stranden är förbjudet\, varför då? Denna station leds av elevernas lärare men med material som tillhandahålls av naturum.\nKanske fikapaus/lek vid Bondbacken eller något läraren bestämmer\n\nStation 3 vandring på Gränsöleden (60 min)\n12–15 elever\nUnder en kortare rundvandring på Gränsöleden ser vi oss omkring och tittar efter hur våren avancerat\, växter och fåglar. Allemansrätten och skyddad natur är i fokus. \nVad behöver ni förbereda? \n\nDela in eleverna i 2 grupper\, ca 10–15 stycken i varje grupp.\nUnder dagen kommer naturum erbjuda två aktiviteter. Har ni möjlighet\, fördjupa er gärna under lektionstid inom något område som rör skyddad natur.\nTa med rätt packning. Gärna kikare. Skolan tillhandahåller allt som eleverna behöver förtära. På bondbacken finns fina grillplatser. Be eleverna att packa ett ombyte samt handduk.\n\nI övrigt ordnar naturum med allt som behövs till aktiviteterna. Vi är tre personal från naturum Västervik som tar emot er – Michael Söderström\, Mikael Wolfbrandt samt Frida Solli. \nVad händer och hur går det till?\nNaturumpersonal kommer möta upp er vid Bondbacken. Dagen startas med en kortare introduktion om skyddad natur\, Östersjön och vad som kommer att hända under dagen. \nLärandet bygger främst på upplevelse där eleverna ges möjlighet att skapa en relation till området\, havet och arter som förknippas med Gränsö. \nAktiviteterna är uppdelade i två naturumledda stationer samt en station som läraren ansvarar för. Halva gruppen kommer att gå på Gränsöleden och den andra hälften stannar kvar på Bondbacken för aktiviteter. Efter ca en timme byter grupperna. \nAktiviteten är bokningsbar i maj.\nBegränsat antal tillfällen\, först till kvarn.\nMålgrupp: Mellanstadiet 4-6. Räkna med en förmiddag ca 2\,5–3 timmar\,\ninklusive transport till och från skolan.\nBokas på 0490-211 77
URL:https://www.luftenarfri.nu/evenemang/havning-och-natur-pa-granso/2021-05-04/
LOCATION:Gränsö\, Västervik\, Gränsö (vi möts upp på Bondbacken)\, Västervik\, Sverige
CATEGORIES:Strandnära
ATTACH;FMTTYPE=image/jpeg:https://www.luftenarfri.nu/wp-content/uploads/2021/05/Granso-maj-2021_001.jpg
GEO:57.75;16.7
X-APPLE-STRUCTURED-LOCATION;VALUE=URI;X-ADDRESS=Gränsö Västervik Gränsö (vi möts upp på Bondbacken) Västervik Sverige;X-APPLE-RADIUS=500;X-TITLE=Gränsö (vi möts upp på Bondbacken):geo:16.7,57.75
END:VEVENT
END:VCALENDAR