BEGIN:VCALENDAR
VERSION:2.0
PRODID:-//Luften är Fri - ECPv5.9.0//NONSGML v1.0//EN
CALSCALE:GREGORIAN
METHOD:PUBLISH
X-WR-CALNAME:Luften är Fri
X-ORIGINAL-URL:https://www.luftenarfri.nu
X-WR-CALDESC:Händelser för Luften är Fri
BEGIN:VTIMEZONE
TZID:Europe/Stockholm
BEGIN:DAYLIGHT
TZOFFSETFROM:+0100
TZOFFSETTO:+0200
TZNAME:CEST
DTSTART:20210328T010000
END:DAYLIGHT
BEGIN:STANDARD
TZOFFSETFROM:+0200
TZOFFSETTO:+0100
TZNAME:CET
DTSTART:20211031T010000
END:STANDARD
END:VTIMEZONE
BEGIN:VEVENT
DTSTART;TZID=Europe/Stockholm:20210329T080000
DTEND;TZID=Europe/Stockholm:20210329T170000
DTSTAMP:20260422T215415
CREATED:20210407T073857Z
LAST-MODIFIED:20210407T073857Z
UID:15179-1617004800-1617037200@www.luftenarfri.nu
SUMMARY:Tipspromenad-Fågelfrossa
DESCRIPTION:Vet du hur lång en hackspettstunga är? Äter svalor ormar?\nGå vår tipspromenad och svara på tio frågor om fåglar!\nBarn- och vuxenfrågor\, du rättar själv efter sista frågan.\n\nDATUM\nMåndag 29/3 – söndag 2/5\n\nPLATS\nStart och avslut utanför naturum Färnebofjärden\, Gysinge. Koordinater: WGS84 60.28691\, 16.881695. Frågorna sitter i en slinga i naturums närområde. Total längd cirka 450 meter.
URL:https://www.luftenarfri.nu/evenemang/tipspromenad-fagelfrossa/2021-03-29/
LOCATION:Färnebofjärdens nationalpark\, Benedicks väg 3\, Gysinge\, 81197\, Sverige
CATEGORIES:Skogsnära
ATTACH;FMTTYPE=image/jpeg:https://www.luftenarfri.nu/wp-content/uploads/2021/03/165593237_3945498692139573_7833731016155162973_n.jpg
ORGANIZER;CN="naturum%20F%26auml%3Brnebofj%26auml%3Brden":MAILTO:farnebofjarden@lansstyrelsen.se
GEO:60.2868362;16.8816445
X-APPLE-STRUCTURED-LOCATION;VALUE=URI;X-ADDRESS=Färnebofjärdens nationalpark Benedicks väg 3 Gysinge 81197 Sverige;X-APPLE-RADIUS=500;X-TITLE=Benedicks väg 3:geo:16.8816445,60.2868362
END:VEVENT
BEGIN:VEVENT
DTSTART;VALUE=DATE:20210217
DTEND;VALUE=DATE:20210218
DTSTAMP:20260422T215415
CREATED:20210217T102512Z
LAST-MODIFIED:20210217T102512Z
UID:7848-1613520000-1613606399@www.luftenarfri.nu
SUMMARY:GPS-quiz
DESCRIPTION:Gå en kort promenad och gör vårt GPS-quiz på Granön\, Gysinge!\nDu hittar frågorna med hjälp av kartan i mobilen. Ingen app behövs.\n– Se till att mobilen har platsåtkomst påslagen.\n– Gå in på hemsidan play.gpsquiz.com med webbläsaren i din mobil.\n– Byt ev webbläsare\, om du får den uppmaningen.\n– Välj: Granön vinter 2021 (du måste vara nära Gysingeforsarna för att den ska komma upp på skärmen)\n– Hitta på och skriv in ett lagnamn och skriv hur många ni är i laget\, t ex: Bälingekidsen 3 pers\nDen gula markeringen är din egen position. Leta dig fram till första frågan. När du är på plats visas frågan på skärmen i din mobil. Välj ett svarsalternativ. Gå vidare till nästa fråga.\nSkicka in dina svar då du är färdig.
URL:https://www.luftenarfri.nu/evenemang/gps-quiz/2021-02-17/
LOCATION:naturum Färnebofjärden\, Benedicks väg 3\, Gysinge\, 81197\, Sverige
CATEGORIES:Skogsnära
ATTACH;FMTTYPE=image/jpeg:https://www.luftenarfri.nu/wp-content/uploads/2021/02/granon.jpg
ORGANIZER;CN="naturum%20F%26auml%3Brnebofj%26auml%3Brden":MAILTO:farnebofjarden@lansstyrelsen.se
GEO:60.2868362;16.8816445
X-APPLE-STRUCTURED-LOCATION;VALUE=URI;X-ADDRESS=naturum Färnebofjärden Benedicks väg 3 Gysinge 81197 Sverige;X-APPLE-RADIUS=500;X-TITLE=Benedicks väg 3:geo:16.8816445,60.2868362
END:VEVENT
BEGIN:VEVENT
DTSTART;VALUE=DATE:20210217
DTEND;VALUE=DATE:20210331
DTSTAMP:20260422T215415
CREATED:20210217T100708Z
LAST-MODIFIED:20210609T124936Z
UID:7818-1613520000-1617148799@www.luftenarfri.nu
SUMMARY:Färgstarkt i naturen – tipspromenad
DESCRIPTION:Har du koll på vilka svenska djur som får vit päls på vintern? Och vet du varför getingar är svarta och gula?\nGå vår tipspromenad och svara på tio färgstarka frågor om djur och natur. Barn- och vuxenfrågor\, du rättar själv efter sista frågan.\n\nPlats:\nStart och slut utanför naturum Färnebofjärden\, Gysinge. Koordinater: WGS84 60.28691\, 16.881695.\nFrågorna sitter i en slinga i naturums närområde. Total längd cirka 450 meter.
URL:https://www.luftenarfri.nu/evenemang/fargstarkt-i-naturen-tipspromenad/
LOCATION:naturum Färnebofjärden\, Benedicks väg 3\, Gysinge\, 81197\, Sverige
CATEGORIES:Vardagsnära
ATTACH;FMTTYPE=image/jpeg:https://www.luftenarfri.nu/wp-content/uploads/2021/02/kamel.jpg
ORGANIZER;CN="naturum%20F%26auml%3Brnebofj%26auml%3Brden":MAILTO:farnebofjarden@lansstyrelsen.se
GEO:60.2868362;16.8816445
X-APPLE-STRUCTURED-LOCATION;VALUE=URI;X-ADDRESS=naturum Färnebofjärden Benedicks väg 3 Gysinge 81197 Sverige;X-APPLE-RADIUS=500;X-TITLE=Benedicks väg 3:geo:16.8816445,60.2868362
END:VEVENT
BEGIN:VEVENT
DTSTART;VALUE=DATE:20210216
DTEND;VALUE=DATE:20210217
DTSTAMP:20260422T215415
CREATED:20210217T100323Z
LAST-MODIFIED:20210217T100323Z
UID:7901-1613433600-1613519999@www.luftenarfri.nu
SUMMARY:Målartävling – Naturen i färg
DESCRIPTION:Nu under sportlovsveckorna har vi en utmaning som heter Naturen i färg. Vi vill att ni målar\, inspirerade av naturen!\n\nVälj själv om du vill måla ett specifikt motiv\, eller bara kladda med färgen. Har du suttit vid en lägereld och tittat på stjärnorna? Dragit upp en stor fisk? Hur inspirerar naturen dig?\n\nNär du känner dig nöjd med ditt alster fotar du det och postar på Facebook eller Instagram. Använd #naturenifärg och #luftenarfri\, så är du med i utlottningen av fem målarböcker.\nAlla kan vara med\, så sätt er hela familjen och måla!
URL:https://www.luftenarfri.nu/evenemang/malartavling-naturen-i-farg/2021-02-16/
LOCATION:naturum Färnebofjärden\, Benedicks väg 3\, Gysinge\, 81197\, Sverige
CATEGORIES:Vardagsnära
ATTACH;FMTTYPE=image/jpeg:https://www.luftenarfri.nu/wp-content/uploads/2021/02/niff.jpg
ORGANIZER;CN="naturum%20F%26auml%3Brnebofj%26auml%3Brden":MAILTO:farnebofjarden@lansstyrelsen.se
GEO:60.2868362;16.8816445
X-APPLE-STRUCTURED-LOCATION;VALUE=URI;X-ADDRESS=naturum Färnebofjärden Benedicks väg 3 Gysinge 81197 Sverige;X-APPLE-RADIUS=500;X-TITLE=Benedicks väg 3:geo:16.8816445,60.2868362
END:VEVENT
BEGIN:VEVENT
DTSTART;VALUE=DATE:20210215
DTEND;VALUE=DATE:20210216
DTSTAMP:20260422T215415
CREATED:20210217T100603Z
LAST-MODIFIED:20210217T100603Z
UID:7813-1613347200-1613433599@www.luftenarfri.nu
SUMMARY:Hjälp Målar-Franz hitta sina färger!
DESCRIPTION:Bävern Målar-Franz älskar att måla! Helst målar han av någonting i naturen\, som till exempel hans favoritträd – aspen. Idag när han skulle måla upptäckte han att hans målarlåda var tom! Alla färgerna måste ha ramlat ut!\nHan hade med sig målarlådan igår när han gick för att hälsa på sina vänner som bor utefter Skogsstigen. Färgerna måste ha ramlat ut då någonstans efter vägen.\nVill du hjälpa Målar-Franz hitta alla färgerna igen?\n\nMer info på plats. Ta gärna med egen penna!\n\nPLATS\nFärnebofjärdens nationalparks huvudentré i Sevedskvarnsområdet\, 3 km sydost om Gysinge. Start vid blå ledens början (Kungaslingan)\, mellan dassbyggnaden och bilvägsbron (koordinater WGS84 60.270206\, 16.908259).\nUppdraget går längs stigen fram till vindskyddet\, total längd cirka 200 meter.
URL:https://www.luftenarfri.nu/evenemang/hjalp-malar-franz-hitta-sina-farger/2021-02-15/
LOCATION:Färnebofjärdens nationalpark\, Benedicks väg 3\, Gysinge\, 81197\, Sverige
CATEGORIES:Skogsnära
ATTACH;FMTTYPE=image/jpeg:https://www.luftenarfri.nu/wp-content/uploads/2021/02/149145455_3823577100998400_8086350567974970537_n.jpg
ORGANIZER;CN="naturum%20F%26auml%3Brnebofj%26auml%3Brden":MAILTO:farnebofjarden@lansstyrelsen.se
GEO:60.2868362;16.8816445
X-APPLE-STRUCTURED-LOCATION;VALUE=URI;X-ADDRESS=Färnebofjärdens nationalpark Benedicks väg 3 Gysinge 81197 Sverige;X-APPLE-RADIUS=500;X-TITLE=Benedicks väg 3:geo:16.8816445,60.2868362
END:VEVENT
END:VCALENDAR