BEGIN:VCALENDAR
VERSION:2.0
PRODID:-//Luften är Fri - ECPv5.9.0//NONSGML v1.0//EN
CALSCALE:GREGORIAN
METHOD:PUBLISH
X-WR-CALNAME:Luften är Fri
X-ORIGINAL-URL:https://www.luftenarfri.nu
X-WR-CALDESC:Händelser för Luften är Fri
BEGIN:VTIMEZONE
TZID:Europe/Stockholm
BEGIN:DAYLIGHT
TZOFFSETFROM:+0100
TZOFFSETTO:+0200
TZNAME:CEST
DTSTART:20210328T010000
END:DAYLIGHT
BEGIN:STANDARD
TZOFFSETFROM:+0200
TZOFFSETTO:+0100
TZNAME:CET
DTSTART:20211031T010000
END:STANDARD
END:VTIMEZONE
BEGIN:VEVENT
DTSTART;VALUE=DATE:20210312
DTEND;VALUE=DATE:20220101
DTSTAMP:20260423T025217
CREATED:20210210T135547Z
LAST-MODIFIED:20210708T121038Z
UID:7088-1615507200-1640995199@www.luftenarfri.nu
SUMMARY:Tätortsnära  naturvandring på Bergastigen i Lagan
DESCRIPTION:Bergastigen är en naturstig som sträcker sig runt Lagans samhälle. Den går längs Lagaån och Bergaravinen och fortsätter i barrskogen på och längs åsen väster om samhället. Varvet fullbordas med en promenad vid golfbanan och på kanalbanken mot Bro kraftstation. \nUtefter Bergastigen finns en Lärande Stig med 40 informationsskyltar om fåglar\, djur och natur. Stigen går en bit längs med Bergaravinen\, en bäckravin som är ca 7m djup och är ca 300m lång. Vid Bergaravinen finns också Sveriges enda skywalk\, Bergastigen Skywalk. Den sträcker sig 5 meter ut från ravinens kant\, 8 meter över Trotteslövsbäcken. \nBergastigen korsar gator och vägar på flera ställen vilket gör att man har många möjligheter att välja promenadsträcka och terräng. Det finns några kortare alternativstigar med anslutning till Bergastigen\, delvis upptrampade stigar och delvis viltstigar. Det finns rastplatser på flera ställen längs stigen.
URL:https://www.luftenarfri.nu/evenemang/stadsnara-naturvandring-pa-bergastigen-i-lagan/
LOCATION:Lagan\, Bergastigen\, Lagan\, Kronoberg\, 34152\, Sverige
CATEGORIES:Skogsnära,Vardagsnära
ATTACH;FMTTYPE=image/jpeg:https://www.luftenarfri.nu/wp-content/uploads/2021/02/Bergastigen.jpg
ORGANIZER;CN="Ljungby%20Tourist%20Center":MAILTO:turistbyran@ljungby.se
GEO:56.9130702;13.9795607
X-APPLE-STRUCTURED-LOCATION;VALUE=URI;X-ADDRESS=Lagan Bergastigen Lagan Kronoberg 34152 Sverige;X-APPLE-RADIUS=500;X-TITLE=Bergastigen:geo:13.9795607,56.9130702
END:VEVENT
END:VCALENDAR