BEGIN:VCALENDAR
VERSION:2.0
PRODID:-//Luften är Fri - ECPv5.9.0//NONSGML v1.0//EN
CALSCALE:GREGORIAN
METHOD:PUBLISH
X-WR-CALNAME:Luften är Fri
X-ORIGINAL-URL:https://www.luftenarfri.nu
X-WR-CALDESC:Händelser för Luften är Fri
BEGIN:VTIMEZONE
TZID:Europe/Stockholm
BEGIN:DAYLIGHT
TZOFFSETFROM:+0100
TZOFFSETTO:+0200
TZNAME:CEST
DTSTART:20210328T010000
END:DAYLIGHT
BEGIN:STANDARD
TZOFFSETFROM:+0200
TZOFFSETTO:+0100
TZNAME:CET
DTSTART:20211031T010000
END:STANDARD
END:VTIMEZONE
BEGIN:VEVENT
DTSTART;TZID=Europe/Stockholm:20210629T081500
DTEND;TZID=Europe/Stockholm:20210629T101500
DTSTAMP:20260423T062906
CREATED:20210628T081924Z
LAST-MODIFIED:20210628T081924Z
UID:30466-1624954500-1624961700@www.luftenarfri.nu
SUMMARY:Följ med på cykeltur
DESCRIPTION:Välkommen att följa med på cykelrunda under bar himmel i våra vackra omgivningar till Ljungbys oaser och sevärdheter. På vägen tas det någonstans en paus för fika innan vägen tillbaka. Kläder efter väder. Ladda fikakorg och vattenflaska! Ingen anmälan. Samling utanför Ljungby församlingshem.
URL:https://www.luftenarfri.nu/evenemang/folj-med-pa-cykeltur/2021-06-29/
LOCATION:Ljungby\, Kronoskogen\, Ljungby\, Kronoberg\, 341 22\, Sverige
CATEGORIES:Vardagsnära
ATTACH;FMTTYPE=image/jpeg:https://www.luftenarfri.nu/wp-content/uploads/2021/06/cyklavidvatten_media-1.jpg
ORGANIZER;CN="Ljungby%20f%26ouml%3Brsamling":MAILTO:sjoo.ulla@gmail.com
GEO:56.845938;13.9583491
X-APPLE-STRUCTURED-LOCATION;VALUE=URI;X-ADDRESS=Ljungby Kronoskogen Ljungby Kronoberg 341 22 Sverige;X-APPLE-RADIUS=500;X-TITLE=Kronoskogen:geo:13.9583491,56.845938
END:VEVENT
END:VCALENDAR