BEGIN:VCALENDAR
VERSION:2.0
PRODID:-//Luften är Fri - ECPv5.9.0//NONSGML v1.0//EN
CALSCALE:GREGORIAN
METHOD:PUBLISH
X-WR-CALNAME:Luften är Fri
X-ORIGINAL-URL:https://www.luftenarfri.nu
X-WR-CALDESC:Händelser för Luften är Fri
BEGIN:VTIMEZONE
TZID:Europe/Stockholm
BEGIN:DAYLIGHT
TZOFFSETFROM:+0100
TZOFFSETTO:+0200
TZNAME:CEST
DTSTART:20210328T010000
END:DAYLIGHT
BEGIN:STANDARD
TZOFFSETFROM:+0200
TZOFFSETTO:+0100
TZNAME:CET
DTSTART:20211031T010000
END:STANDARD
END:VTIMEZONE
BEGIN:VEVENT
DTSTART;VALUE=DATE:20210401
DTEND;VALUE=DATE:20210402
DTSTAMP:20260422T214211
CREATED:20210322T144242Z
LAST-MODIFIED:20210322T144517Z
UID:14253-1617235200-1617321599@www.luftenarfri.nu
SUMMARY:Friluftsdag varje dag
DESCRIPTION:Friluftsdagar har varit ett mycket uppskattat och viktigt inslag i den svenska skolan. Det är inte längre obligatoriskt med friluftsdagar men vi vet att friluftsliv ger bättre hälsa. Under Friluftslivets år 2021 lyfts därför friluftsdagen lite extra. Den 29 april är det Hela Sveriges Friluftsdag då arbetsplatser uppmanas att ha friluftsdag. \nVår uppmaning är att ALLA gör sin egen friluftsdag genom att ge sig ut för att utöva minst 30 minuters aktivitet under april. Det kan t.ex. vara att: \n\nGå en bit på Hälsans stig i centrala Höör\,\n ta ett varv runt Vaxsjön\,\nta två varv på Jeppaslingan\neller varför inte testa parkour i närmsta skog?\n\nTa bilder och använd #helasverigesfriluftsdag #luftenarfri #friluftskompis. Vi lottar ut fem friluftskit till de som använder hashtaggarna!
URL:https://www.luftenarfri.nu/evenemang/friluftsdag-varje-dag/2021-04-01/
LOCATION:Höörs kommun
CATEGORIES:Vardagsnära
ORGANIZER;CN="H%26ouml%3B%26ouml%3Brs%20kommun":MAILTO:friluftsliv@hoor.se
END:VEVENT
BEGIN:VEVENT
DTSTART;VALUE=DATE:20210301
DTEND;VALUE=DATE:20210302
DTSTAMP:20260422T214211
CREATED:20210316T125833Z
LAST-MODIFIED:20210316T125833Z
UID:13634-1614556800-1614643199@www.luftenarfri.nu
SUMMARY:Friluftskompis Höör
DESCRIPTION:Vi fortsätter med våra digitala inspirationsinlägg och uppmanar alla att delta under friluftslivets år. Mars månads aktivitet är: Friluftskompis 👫🏽!\n\nVem är en friluftskompis 🤔?\n\nDet är du som älskar att vara ute i naturen 💚året runt som frågar någon uteovan kompis om den vill följa med. Det kan också vara du som inte är ute så mycket som frågar en utevan kompis om du får hänga med.Vår uppmaning under temat Friluftskompis är: \n1. Fråga en kompis om den vill med ut. Det går bra att välja både vana och ovana naturbesökare.\n2. Gå ut i naturen tillsammans!\n3. Ta en bild 📸 eller spela in en kort filmsnutt 🎥 på ert naturbesök och dela i sociala medier med #friluftskompis #frilufthoorskommun #luftenarfri \nVi ser fram emot att heja på många friluftskompisar i mars 👋🏻😊
URL:https://www.luftenarfri.nu/evenemang/friluftskompis-hoor/2021-03-01/
LOCATION:Höörs kommun
CATEGORIES:Skogsnära,Strandnära,Vardagsnära
ATTACH;FMTTYPE=image/jpeg:https://www.luftenarfri.nu/wp-content/uploads/2021/03/SBS_friluftslivets_ar_mars_2021_insta.jpg
ORGANIZER;CN="H%26ouml%3B%26ouml%3Brs%20kommun":MAILTO:friluftsliv@hoor.se
END:VEVENT
END:VCALENDAR