BEGIN:VCALENDAR
VERSION:2.0
PRODID:-//Luften är Fri - ECPv5.9.0//NONSGML v1.0//EN
CALSCALE:GREGORIAN
METHOD:PUBLISH
X-WR-CALNAME:Luften är Fri
X-ORIGINAL-URL:https://www.luftenarfri.nu
X-WR-CALDESC:Händelser för Luften är Fri
BEGIN:VTIMEZONE
TZID:Europe/Stockholm
BEGIN:DAYLIGHT
TZOFFSETFROM:+0100
TZOFFSETTO:+0200
TZNAME:CEST
DTSTART:20210328T010000
END:DAYLIGHT
BEGIN:STANDARD
TZOFFSETFROM:+0200
TZOFFSETTO:+0100
TZNAME:CET
DTSTART:20211031T010000
END:STANDARD
END:VTIMEZONE
BEGIN:VEVENT
DTSTART;VALUE=DATE:20210401
DTEND;VALUE=DATE:20210402
DTSTAMP:20260422T230520
CREATED:20210407T074657Z
LAST-MODIFIED:20210407T074657Z
UID:15244-1617235200-1617321599@www.luftenarfri.nu
SUMMARY:En vandrarkompis för dig i skogen!
DESCRIPTION:Titta gärna in på Huddinges karta i Naturkartan (en applikation till IPhone och Android)\, som gärna är din kompis i naturen! Du kan med denna kompis få hjälp att upptäcka nya fina ställen i vår natur! \nLadda ned idag och utforska naturen som bara finns runt hörnet!
URL:https://www.luftenarfri.nu/evenemang/en-vandrarkompis-for-dig-i-skogen/2021-04-01/
LOCATION:Drevviken\, Trångsund\, Huddinge\, Sjöängsvägen 16-28\, Trångsund\, Stockholm\, 14264\, Sverige
CATEGORIES:Skogsnära,Vardagsnära
ATTACH;FMTTYPE=image/jpeg:https://www.luftenarfri.nu/wp-content/uploads/2021/04/DP-LOGO-Farg.jpg
ORGANIZER;CN="Drevvikenpartiet":MAILTO:info@drevvikenpartiet.se
GEO:59.2337156;18.1560353
X-APPLE-STRUCTURED-LOCATION;VALUE=URI;X-ADDRESS=Drevviken Trångsund Huddinge Sjöängsvägen 16-28 Trångsund Stockholm 14264 Sverige;X-APPLE-RADIUS=500;X-TITLE=Sjöängsvägen 16-28:geo:18.1560353,59.2337156
END:VEVENT
END:VCALENDAR