BEGIN:VCALENDAR
VERSION:2.0
PRODID:-//Luften är Fri - ECPv5.9.0//NONSGML v1.0//EN
CALSCALE:GREGORIAN
METHOD:PUBLISH
X-WR-CALNAME:Luften är Fri
X-ORIGINAL-URL:https://www.luftenarfri.nu
X-WR-CALDESC:Händelser för Luften är Fri
BEGIN:VTIMEZONE
TZID:Europe/Stockholm
BEGIN:DAYLIGHT
TZOFFSETFROM:+0100
TZOFFSETTO:+0200
TZNAME:CEST
DTSTART:20210328T010000
END:DAYLIGHT
BEGIN:STANDARD
TZOFFSETFROM:+0200
TZOFFSETTO:+0100
TZNAME:CET
DTSTART:20211031T010000
END:STANDARD
END:VTIMEZONE
BEGIN:VEVENT
DTSTART;TZID=Europe/Stockholm:20210615T100000
DTEND;TZID=Europe/Stockholm:20210615T110000
DTSTAMP:20260423T064636
CREATED:20210614T151137Z
LAST-MODIFIED:20210614T151137Z
UID:29368-1623751200-1623754800@www.luftenarfri.nu
SUMMARY:Stavgång i bokskogen i Torup
DESCRIPTION:Följ med på en skön och pulshöjande promenad längs med Dansbanestigen. Sträckan är drygt 2 km lång och tar ca 30 min att gå. Vi börjar med en lätt uppvärmning och avslutar med lite stretch efter. \nStavgång är en skonsam men effektiv träningsform där du får igång cirkulationen i hela kroppen och våra leder får röra på sig utan att ta stryk. \nHa kläder efter väder och bra skor som tål skogspromenader. Torups friluftsgård håller med stavar. \nTid: kl. 10–11\, varje tisdag från och med 15 juni.\nSamling: utanför Torups friluftsgård\nAnmälan: Föranmälan krävs ej – först till kvarn\nAntal: max 9 deltagare\nKostnad: Aktiviteten är kostnadsfri.
URL:https://www.luftenarfri.nu/evenemang/stavgang-i-bokskogen-i-torup/2021-06-15/
LOCATION:Torups friluftsgård\, Torupsvägen 488\, Bara
CATEGORIES:Skogsnära
ATTACH;FMTTYPE=image/jpeg:https://www.luftenarfri.nu/wp-content/uploads/2021/06/COLOURBOX10413825-1-scaled.jpg
ORGANIZER;CN="Torups%20friluftsg%26aring%3Brd":MAILTO:friluftsgarden@malmo.se
GEO:55.5667191;13.2128295
X-APPLE-STRUCTURED-LOCATION;VALUE=URI;X-ADDRESS=Torups friluftsgård Torupsvägen 488 Bara;X-APPLE-RADIUS=500;X-TITLE=Torupsvägen 488:geo:13.2128295,55.5667191
END:VEVENT
BEGIN:VEVENT
DTSTART;TZID=Europe/Stockholm:20210703T094500
DTEND;TZID=Europe/Stockholm:20210703T124500
DTSTAMP:20260423T064636
CREATED:20210614T153115Z
LAST-MODIFIED:20210614T153115Z
UID:29396-1625305500-1625316300@www.luftenarfri.nu
SUMMARY:Skogsbad i bokskogen i Torup
DESCRIPTION:Följ med en certifierad naturguide ut i bokskogen för ett avkopplande och meditativt Skogsbad. Vi saktar ned tempot och unnar oss att stanna upp för att bara vara i naturen. Med hjälp av våra sinnen ”badar” vi i upplevelserna av skogen. \n\n\n\n\nSkogsbad är det svenska namnet för den japanska naturterapin Shinrin-yoku\, som syftar till att öka välmående och reducera stress genom vistelse i naturen. \nHär i bokskogen gör vi vårt skogsbad under ledning av den certifierade naturguiden Catherine Höij. \nObservera:\n\nMed reservation för att evenemanget ställs in eller flyttas på grund av dåligt väder.\nDet kostar inget att delta i aktiviteten.\nFöranmälan krävs – anmäl dig här. Sortera på kategori ”Torup” för att hitta evenemanget.\n\nTid: 3 juli kl. 09.45–12.45 & 9 oktober kl. 09.45–12.45\nSamling: utanför Torups friluftsgård\nAntal: max 12 deltagare\nKostnad: Aktiviteten är kostnadsfri.
URL:https://www.luftenarfri.nu/evenemang/skogsbad-i-bokskogen-i-torup/2021-07-03/
LOCATION:Torups friluftsgård\, Torupsvägen 488\, Bara
CATEGORIES:Skogsnära,Strandnära
ATTACH;FMTTYPE=image/jpeg:https://www.luftenarfri.nu/wp-content/uploads/2021/06/COLOURBOX1094504-scaled.jpg
ORGANIZER;CN="Torups%20friluftsg%26aring%3Brd":MAILTO:friluftsgarden@malmo.se
GEO:55.5667191;13.2128295
X-APPLE-STRUCTURED-LOCATION;VALUE=URI;X-ADDRESS=Torups friluftsgård Torupsvägen 488 Bara;X-APPLE-RADIUS=500;X-TITLE=Torupsvägen 488:geo:13.2128295,55.5667191
END:VEVENT
END:VCALENDAR