BEGIN:VCALENDAR
VERSION:2.0
PRODID:-//Luften är Fri - ECPv5.9.0//NONSGML v1.0//EN
CALSCALE:GREGORIAN
METHOD:PUBLISH
X-WR-CALNAME:Luften är Fri
X-ORIGINAL-URL:https://www.luftenarfri.nu
X-WR-CALDESC:Händelser för Luften är Fri
BEGIN:VTIMEZONE
TZID:Europe/Stockholm
BEGIN:DAYLIGHT
TZOFFSETFROM:+0100
TZOFFSETTO:+0200
TZNAME:CEST
DTSTART:20210328T010000
END:DAYLIGHT
BEGIN:STANDARD
TZOFFSETFROM:+0200
TZOFFSETTO:+0100
TZNAME:CET
DTSTART:20211031T010000
END:STANDARD
END:VTIMEZONE
BEGIN:VEVENT
DTSTART;TZID=Europe/Stockholm:20210621T100000
DTEND;TZID=Europe/Stockholm:20210621T140000
DTSTAMP:20260423T072216
CREATED:20201216T095527Z
LAST-MODIFIED:20210617T081217Z
UID:852-1624269600-1624284000@www.luftenarfri.nu
SUMMARY:Guidad cykeltur från Norrbo hembygdsgård
DESCRIPTION:Turen ”Norrbo socken” med cykel. \nEn ca 25 km cykletur med guide längs mindre vägar där vi startar vid hembygdsgården\, via bl.a. Josefskälla och vidare till Norrbo kyrka. Medtag gärna eget fika till turen. \nSamling: Entrén Norrbo hembygdsgård. \nMax 10 personer för ökad säkerhet att kunna hålla avstånd och därmed minska smittspridningen. \nEnklare cykling på mindre grusvägare och landsvägar\, måttligt kuperat förutom vid Josefs källa. Passar även oerfarna cyklister. Från 16 år. Yngre barn endast i cykelvagn/cykelstol. Ta med egen cykel eller hyr hos Norra Dellens Familjecamping.
URL:https://www.luftenarfri.nu/evenemang/guidad-cykeltur-fran-norrbo-hembygdsgard/2021-06-21/
LOCATION:Norrbo hembygdsgård\, Gammelsträng 408\, Norrbo\, Hudiksvall\, Hälsingland i Gävleborgs län\, 824 67\, Sverige
CATEGORIES:Skogsnära,Strandnära
ATTACH;FMTTYPE=image/jpeg:https://www.luftenarfri.nu/wp-content/uploads/2020/12/Norrbo-hbg_cykel_lite.jpg
ORGANIZER;CN="Lin%20%26amp%3B%20Lo%20Turismutveckling":MAILTO:catherine@linolo.se
GEO:61.8271946;16.8271967
X-APPLE-STRUCTURED-LOCATION;VALUE=URI;X-ADDRESS=Norrbo hembygdsgård Gammelsträng 408 Norrbo Hudiksvall Hälsingland i Gävleborgs län 824 67 Sverige;X-APPLE-RADIUS=500;X-TITLE=Gammelsträng 408\, Norrbo:geo:16.8271967,61.8271946
END:VEVENT
BEGIN:VEVENT
DTSTART;TZID=Europe/Stockholm:20210623T170000
DTEND;TZID=Europe/Stockholm:20210623T183000
DTSTAMP:20260423T072216
CREATED:20201216T095448Z
LAST-MODIFIED:20210617T082024Z
UID:845-1624467600-1624473000@www.luftenarfri.nu
SUMMARY:Guidade vandring Norrbo hembygdsgård med omnejd
DESCRIPTION:Kortare historisk vandring på området med guide om byggnader\, personer och intressanta händelser. \nSamling: Entrén Norrbo hembygdsgård. \nNorrbo hembygdsgård ligger vackert belägen i sluttning ner mot Norra Dellens strand med utsikt över skogarna på Nôrsia och de blånande bergen. Här anordnas spelmanskvällar\, midsommarfirande och höjdpunkten är Norrbostämman den andra söndagen i juli varje år. \nAktiviteten sker i anslutning till onsdagens spelmanskväll\, så planera gärna att stanna efter guidningen för att höra ”buskspel” och prova en ostkaka eller kolbulle. \nMax 10 personer för ökad säkerhet att kunna hålla avstånd och därmed minska smittspridningen. \nNär: Onsdagar 23/6\, 7/7\, 21/7 och 25/8\nPris: 150 kr/pers. Gratis för barn under 16 år.\nSpråk: Svenska\nAntal:\nSvårigheter: Enklare vandring på området. Passar även oerfarna vandrare.
URL:https://www.luftenarfri.nu/evenemang/guidade-vandring-norrbo-hembygdsgard-med-omnejd/2021-06-23/
LOCATION:Norrbo hembygdsgård\, Gammelsträng 408\, Norrbo\, Hudiksvall\, Hälsingland i Gävleborgs län\, 824 67\, Sverige
CATEGORIES:Skogsnära,Strandnära
ATTACH;FMTTYPE=image/jpeg:https://www.luftenarfri.nu/wp-content/uploads/2020/12/Norrbo-hbg_vandring_liten.jpg
ORGANIZER;CN="Lin%20%26amp%3B%20Lo%20Turismutveckling":MAILTO:catherine@linolo.se
GEO:61.8271946;16.8271967
X-APPLE-STRUCTURED-LOCATION;VALUE=URI;X-ADDRESS=Norrbo hembygdsgård Gammelsträng 408 Norrbo Hudiksvall Hälsingland i Gävleborgs län 824 67 Sverige;X-APPLE-RADIUS=500;X-TITLE=Gammelsträng 408\, Norrbo:geo:16.8271967,61.8271946
END:VEVENT
END:VCALENDAR